BEGIN:VCALENDAR
VERSION:2.0
PRODID:-//92.5 the River - ECPv5.16.3.1//NONSGML v1.0//EN
CALSCALE:GREGORIAN
METHOD:PUBLISH
X-WR-CALNAME:92.5 the River
X-ORIGINAL-URL:https://theriverboston.com
X-WR-CALDESC:Events for 92.5 the River
BEGIN:VTIMEZONE
TZID:America/New_York
BEGIN:DAYLIGHT
TZOFFSETFROM:-0500
TZOFFSETTO:-0400
TZNAME:EDT
DTSTART:20240310T070000
END:DAYLIGHT
BEGIN:STANDARD
TZOFFSETFROM:-0400
TZOFFSETTO:-0500
TZNAME:EST
DTSTART:20241103T060000
END:STANDARD
END:VTIMEZONE
BEGIN:VEVENT
DTSTART;VALUE=DATE:20241018
DTEND;VALUE=DATE:20241020
DTSTAMP:20260420T152938
CREATED:20240916T171624Z
LAST-MODIFIED:20240916T171624Z
UID:225119-1729209600-1729382399@theriverboston.com
SUMMARY:Concord Sound and Color Festival
DESCRIPTION:Reserve FREE Concert Tickets Here\nThe First Annual Sound & Color Music & Arts Festival\nDowntown Concord | Oct 18 & 19\, 2024\nPerformances | 11 am – 10 pm\nOutdoor Artist Market | 11 am – 7 pm\nThe Sound and Color Festival is a FREE 2-day art and music festival taking place at venues and outdoor locations throughout the historic city of Concord\, NH. Their goal is to remove all barriers to arts access and promote the importance of the arts community to the region and beyond. Come enjoy 100+ unique experiences! \nHelpful Links: \n\nMusic Schedule\nFree Tickets\nParticipating Venues\nFAQs\nFollow on FACEBOOK or INSTAGRAM
URL:https://theriverboston.com/events/concord-sound-and-color-festival/
LOCATION:Capitol Center for the Arts\, 44 South Main Street\, Concord\, NH\, 03301\, United States
END:VEVENT
BEGIN:VEVENT
DTSTART;TZID=America/New_York:20241019T200000
DTEND;TZID=America/New_York:20241019T200000
DTSTAMP:20260420T152938
CREATED:20241004T202616Z
LAST-MODIFIED:20241004T202616Z
UID:225264-1729368000-1729368000@theriverboston.com
SUMMARY:Halloween Concert with New England Film Orchestra
DESCRIPTION:Buy Tickets Here \nNew England Film Orchestra Halloween Concert\nJoin them for a night of your favorite Halloween classics and film scores! Wear a costume and compete to win a spooky prize! \nFamily-friendly event. Age 12 and under FREE \nREAD MORE \n\nMore About New England Film Orchestra\nFind more New England Film Orchestra videos here
URL:https://theriverboston.com/events/halloween-new-england-film-orchestra/
LOCATION:First Church in Cambridge\, 11 Garden St\, Cambridge\, MA\, 02138\, United States
ORGANIZER;CN="New%20England%20Film%20Orchestra":MAILTO:newenglandfilmorchestra@gmail.com
END:VEVENT
END:VCALENDAR