BEGIN:VCALENDAR
VERSION:2.0
PRODID:-//92.5 the River - ECPv5.16.3.1//NONSGML v1.0//EN
CALSCALE:GREGORIAN
METHOD:PUBLISH
X-WR-CALNAME:92.5 the River
X-ORIGINAL-URL:https://theriverboston.com
X-WR-CALDESC:Events for 92.5 the River
BEGIN:VTIMEZONE
TZID:America/New_York
BEGIN:DAYLIGHT
TZOFFSETFROM:-0500
TZOFFSETTO:-0400
TZNAME:EDT
DTSTART:20240310T070000
END:DAYLIGHT
BEGIN:STANDARD
TZOFFSETFROM:-0400
TZOFFSETTO:-0500
TZNAME:EST
DTSTART:20241103T060000
END:STANDARD
END:VTIMEZONE
BEGIN:VEVENT
DTSTART;TZID=America/New_York:20241025T193000
DTEND;TZID=America/New_York:20241025T193000
DTSTAMP:20260420T235919
CREATED:20240916T211815Z
LAST-MODIFIED:20240916T211815Z
UID:225138-1729884600-1729884600@theriverboston.com
SUMMARY:10\,000 Maniacs at Nashua Center for the Arts
DESCRIPTION:Buy Tickets Here \n10\,000 MANIACS FRIDAY OCTOBER 25 @ 7:30 PM\nCelebrating their 40th Anniversary\, 10\,000 Maniacs has a lot in common with Jamestown\, New York\, the city that spawned them back in 1981. Both are honest and hardworking\, a step outside the mainstream\, and both possess a bit of magic. “It’s a city of blue-collar poetry\,” says keyboardist Dennis Drew. “And that’s what we’re about\, real-life stories. We’re a family\, we do real work and we keep moving forward.”\nThe band has covered plenty of ground in its 40 years\, from cult-stardom to international stardom\, to their current status as a cornerstone alternative band. But the sound and spirit of 10\,000 Maniacs remains consistent. The live shows embrace their entire catalogue\, and the lineup is still anchored by four of the six original members. Drew\, guitarist John Lombardo\, and bassist Steven Gustafson co-founded the band in 1981. Drummer Jerome Augustyniak joined in 1982\, solidifying the rhythm section. And the two “new” members have long been part of the family: Mary Ramsey toured and recorded with the Maniacs as a viola player and backup singer beginning in 1991 before stepping into the front woman’s role 27 years ago. \n\nFind more concerts coming up at Nashua Center for the Arts\nNot a Spectacle Live Member? Join today to gain presale access and more!
URL:https://theriverboston.com/events/10000-maniacs-nashua-cta/
LOCATION:Nashua Center for the Arts\, 201 Main Street\, Nashua\, NH\, 03060\, United States
END:VEVENT
BEGIN:VEVENT
DTSTART;TZID=America/New_York:20241025T200000
DTEND;TZID=America/New_York:20241025T200000
DTSTAMP:20260420T235919
CREATED:20241010T184515Z
LAST-MODIFIED:20241010T184515Z
UID:225323-1729886400-1729886400@theriverboston.com
SUMMARY:Stand Up to Save Lives: An Evening With Alex Borstein @ Somerville Theatre
DESCRIPTION:“Stand Up to Save Lives: An Evening with Alex Borstein” is an unmissable comedy event coming to Somerville Theatre on October 25\, 2024! Prepare for a night of entertainment\, laughter\, and the chance to make a difference. \nAlex Borstein is an Emmy-award winning actress\, comedian\, writer\, and producer. She is best known for voicing Lois Griffin in the animated comedy series Family Guy and her role as Susie Myerson in the series The Marvelous Mrs. Maisel. \nSave One Life’s mission is to make lasting change in the global bleeding disorder community\, with consistent and focused support. They provide opportunities for direct financial assistance\, medication\, scholarships and small business grants to underserved communities around the world. By coming to this event\, you are not only enjoying a night of entertainment\, you are participating in making that lasting change. \nGet your tickets today!
URL:https://theriverboston.com/events/stand-up-save-lives/
LOCATION:Somerville Theatre\, 55 Davis Square\, Somerville\, MA\, 02144\, United States
END:VEVENT
END:VCALENDAR