BEGIN:VCALENDAR
VERSION:2.0
PRODID:-//92.5 the River - ECPv5.16.3.1//NONSGML v1.0//EN
CALSCALE:GREGORIAN
METHOD:PUBLISH
X-WR-CALNAME:92.5 the River
X-ORIGINAL-URL:https://theriverboston.com
X-WR-CALDESC:Events for 92.5 the River
BEGIN:VTIMEZONE
TZID:America/New_York
BEGIN:DAYLIGHT
TZOFFSETFROM:-0500
TZOFFSETTO:-0400
TZNAME:EDT
DTSTART:20240310T070000
END:DAYLIGHT
BEGIN:STANDARD
TZOFFSETFROM:-0400
TZOFFSETTO:-0500
TZNAME:EST
DTSTART:20241103T060000
END:STANDARD
END:VTIMEZONE
BEGIN:VEVENT
DTSTART;TZID=America/New_York:20241101T120000
DTEND;TZID=America/New_York:20241103T170000
DTSTAMP:20260421T151731
CREATED:20241003T192033Z
LAST-MODIFIED:20241003T192033Z
UID:225246-1730462400-1730653200@theriverboston.com
SUMMARY:The Longevity Pavilion - A Comprehensive Biohacking Experience presented by Boston Biolife
DESCRIPTION:  \nBoston Biolife presents The Longevity Pavilion • A Comprehensive Biohacking Experience\nFriday-Sunday • November 1-3\, 2024 at the Hyatt Regency Boston Harbor \nLEARN ABOUT:\nPersonalized Precision Health Strategies\nGenetic Testing and Bio Markers\nEnergy Medicine Supplements and Nutrition\nMindfulness and Neuroscience\nInflammation and Immune Health \nLearn more and register
URL:https://theriverboston.com/events/bbl-longevity/
LOCATION:hyatt\, 101 Harborside Dr\, Boston\, MA\, 02128\, United States
END:VEVENT
BEGIN:VEVENT
DTSTART;TZID=America/New_York:20241103T143000
DTEND;TZID=America/New_York:20241103T143000
DTSTAMP:20260421T151731
CREATED:20241011T194337Z
LAST-MODIFIED:20241011T194413Z
UID:225330-1730644200-1730644200@theriverboston.com
SUMMARY:Merrimack Valley Philharmonic Orchestra Concert - A Salute to The Greatest Generation
DESCRIPTION:Buy Tickets Here\nA Salute To The Greatest Generation\nCelebrate and honor our veterans for their service to our country!  This concert is dedicated to our “Greatest Generation” – those who fought and supported America and its allies during the second World War. Swing to Ellington’s “It Don’t Mean A Thing” and Glen Miller’s “In The Mood”. Sit back and relax to South Pacific and reverently remember our veterans with John Williams’ “Hymn to the Fallen” and the victims of the Axis horrors with “Schindler’s List”. Richard Rodgers’ “Victory at Sea” will remember the war in the Pacific. \nSpecial guests at the event will include veteran Corporal Robert (Boosts) Chouinard\, US Army\, who was part of the Normandy Beach Invasion Force\, and American Military Historian\, LTC Kevin Major. \n\nFollow Merrimack Valley Philharmonic Orchestra on Facebook\nLearn More About MVPO\nMake A Donation
URL:https://theriverboston.com/events/merrimack-valley-philharmonic-orchestra-concert-salute-2024/
LOCATION:Timberlane Performing Arts Center\, 40 Greenough Rd\, Plaistow\, NH\, 03865\, United States
ORGANIZER;CN="Merrimack%20Valley%20Philharmonic%20Orchestra":MAILTO:president@mvpomusic.com
END:VEVENT
BEGIN:VEVENT
DTSTART;TZID=America/New_York:20241103T200000
DTEND;TZID=America/New_York:20241104T220000
DTSTAMP:20260421T151731
CREATED:20241009T172218Z
LAST-MODIFIED:20241009T172218Z
UID:225310-1730664000-1730757600@theriverboston.com
SUMMARY:Leon Bridges @ Roadrunner
DESCRIPTION:On the heels of his new album\, simply titled Leon\, Leon Bridges is returning to Boston for two shows at Roadrunner this fall. \nGet your tickets here for:  November 3rd   November 4th
URL:https://theriverboston.com/events/leon-bridges-roadrunner/
LOCATION:Roadrunner\, 89 Guest Street\, Boston\, MA\, 02135\, United States
END:VEVENT
END:VCALENDAR