BEGIN:VCALENDAR
VERSION:2.0
PRODID:-//92.5 the River - ECPv5.16.3.1//NONSGML v1.0//EN
CALSCALE:GREGORIAN
METHOD:PUBLISH
X-WR-CALNAME:92.5 the River
X-ORIGINAL-URL:https://theriverboston.com
X-WR-CALDESC:Events for 92.5 the River
BEGIN:VTIMEZONE
TZID:America/New_York
BEGIN:DAYLIGHT
TZOFFSETFROM:-0500
TZOFFSETTO:-0400
TZNAME:EDT
DTSTART:20240310T070000
END:DAYLIGHT
BEGIN:STANDARD
TZOFFSETFROM:-0400
TZOFFSETTO:-0500
TZNAME:EST
DTSTART:20241103T060000
END:STANDARD
END:VTIMEZONE
BEGIN:VEVENT
DTSTART;TZID=America/New_York:20241106T180000
DTEND;TZID=America/New_York:20241106T203000
DTSTAMP:20260421T213016
CREATED:20241025T140942Z
LAST-MODIFIED:20241025T141051Z
UID:225419-1730916000-1730925000@theriverboston.com
SUMMARY:Sophistication Simplified: Premium Ready-To-Drink Cocktail Tasting!
DESCRIPTION:  \nJoin NH Liquor & Wine Outlet for an exclusive tasting event featuring appetizers and the latest in ready-to-drink cocktails from top brands. RTD cocktails are exploding in the market and we’re inviting you to tasting event that explores this exciting category. From RTD cocktails like an Old Fashioned\, or Espresso Martini’s these are not what you thought of as ready to drink cocktails in the past. Enjoy a fun filled evening as you delve into this category while enjoying some light bites to compliment the tasting! \nGrab your tickets!
URL:https://theriverboston.com/events/sophistication-simplified-cocktail-tasting/
LOCATION:Manchester Country Club\, 180 S River Road\, Bedford\, NH
END:VEVENT
BEGIN:VEVENT
DTSTART;TZID=America/New_York:20241106T200000
DTEND;TZID=America/New_York:20241106T200000
DTSTAMP:20260421T213016
CREATED:20240708T180442Z
LAST-MODIFIED:20240708T180442Z
UID:224481-1730923200-1730923200@theriverboston.com
SUMMARY:Wallflowers @ Wilbur Theatre
DESCRIPTION:The 90’s hits\, “One Headlight” and “6th Avenue Heartache” singer comes to Boston this November! Dylan The main vocalist says\,  “I came up in an era of great rock ‘n’ roll bands making great music\, and it’s the way I always imagined I would do it one day\, so that’s always been my vision with the Wallflowers – to be a great rock ‘n’ roll band. And I’ve worked on it for 30 years now and I still have a lot to say. It’s something I started a long time ago\, and it’s far from finished.” Don’t let missing out on these tickets be your next “Heartache”! \nMore Information and Tickets Here
URL:https://theriverboston.com/events/wallflowers-wilbur-theatre/
LOCATION:The Wilbur\, 246 Tremont St\, Boston\, MA\, 02116\, United States
END:VEVENT
END:VCALENDAR