BEGIN:VCALENDAR
VERSION:2.0
PRODID:-//92.5 the River - ECPv5.16.3.1//NONSGML v1.0//EN
CALSCALE:GREGORIAN
METHOD:PUBLISH
X-WR-CALNAME:92.5 the River
X-ORIGINAL-URL:https://theriverboston.com
X-WR-CALDESC:Events for 92.5 the River
BEGIN:VTIMEZONE
TZID:America/New_York
BEGIN:DAYLIGHT
TZOFFSETFROM:-0500
TZOFFSETTO:-0400
TZNAME:EDT
DTSTART:20240310T070000
END:DAYLIGHT
BEGIN:STANDARD
TZOFFSETFROM:-0400
TZOFFSETTO:-0500
TZNAME:EST
DTSTART:20241103T060000
END:STANDARD
END:VTIMEZONE
BEGIN:VEVENT
DTSTART;TZID=America/New_York:20241122T080000
DTEND;TZID=America/New_York:20241122T170000
DTSTAMP:20260422T230019
CREATED:20241122T120254Z
LAST-MODIFIED:20241122T120254Z
UID:225667-1732262400-1732294800@theriverboston.com
SUMMARY:A Christmas Carol - Closing Night at NSMT
DESCRIPTION:Buy Tickets Here\nA CHRISTMAS CAROL | December 5 -22\nNew England’s brightest holiday tradition is celebrating its 35th Anniversary! An original adaptation based on Charles Dickens’ classic novella\, A CHRISTMAS CAROL is a musical ghost story following the miserly Ebenezer Scrooge (Played by David Coffee\, joined once again by Cheryl McMahon as Mrs Dilber/Mrs. Fezziwig for their 30th production) through a series of strange and magical journeys\, where he ultimately discovers the true spirit of the holiday season. Featuring dazzling special effects and traditional songs like “God Rest Ye Merry Gentleman\,” “The Boar’s Head Carol\,” and “We Wish You A Merry Christmas\,” this award-winning production was created specifically for North Shore Music Theatre and has been seen by more than one million people since its debut in 1989. \nRUNNING TIME: Approximately 2h 20m (includes intermission)\nCONTENT ADVISORY: Contains sudden loud noises\, strobing/flashing/moving lights\, pyrotechnics\, and dark imagery. We do encourage you to use your judgment based on your own research of the show\, your own sensibilities\, and a child’s age and maturity level.\nNo children under the age of 4 will be permitted in the theatre including babes in arms. \nTICKETS: Start at $40 (Prices can increase based on demand)\nGROUP RATES available for 10+ tickets\nKids 4-18 Save 50% off all full price tickets for all performances December 6 – 22.\n5-Show Subscribers SAVE 10% off full priced tickets\n$25 STUDENT RUSH TICKETS will be sold for all main stage musical performances starting one hour prior to curtain time. Purchase must be made in person. Purchaser must present current/valid student ID. One ticket per ID. Tickets are subject to availability. Seating location is not guaranteed.\nSuper Saver seats may be obstructed view. \nSHOW CREDITS\n​Kevin P. Hill (Direction & Choreography)\nMilton Granger (Music Direction)\nAdapted by Jon Kimbell based on the novella by Charles Dickens\nAssisted by David James & David Zoffoli\nFeaturing traditional music of the season and original music composed and arranged by Alby Potts and James Woodland \nALL SHOWTIMES:\n\nThurs\, Dec-5 @ 7:30 pm\nFri\, Dec-6 @ 7:30 pm\nSat\, Dec-7 @ 2:00 pm\nSat\, Dec-7 @ 7:30 pm\nSun\, Dec-8 @ 2:00 pm\nWed\, Dec-11 @ 2:00 pm\nFri\, Dec-13-2024 @ 7:30 pm\nSat\, Dec-14-2024 @ 2:00 pm\nSat\, Dec-14-2024 @ 7:30 pm\nSun\, Dec-15 @ 2:00 pm\nFri\, Dec-20 @ 7:30 pm\nSat\, Dec-21 @ 2:00 pm\nSat\, Dec-21 @ 7:30 pm\nSun\, Dec-22 @ 2:00 pm\nSun\, Dec-22 @ 7:30 pm\n\nEXPLORE MORE PROGRAMMING AT NORTH SHORE MUSIC THEATRE
URL:https://theriverboston.com/events/christmas-carol-closing-night-nsmt-2024/
END:VEVENT
BEGIN:VEVENT
DTSTART;TZID=America/New_York:20241122T190000
DTEND;TZID=America/New_York:20241122T190000
DTSTAMP:20260422T230019
CREATED:20240719T171639Z
LAST-MODIFIED:20241105T213852Z
UID:224682-1732302000-1732302000@theriverboston.com
SUMMARY:Dawes @ Roadrunner
DESCRIPTION:Buy Tickets Here \nDAWES with Special Guest Winnetka Bowling League\nDoors: 6 PM | All ages\nWe wanted a musical drama.\nAn ensemble cast\, with linked arms\, kicking highly. \nA transcription of a band meeting we haven’t even had yet… \nA spotlight on a spotlight:\nThis one goes out to all the solos BETWEEN the solos.\nTo the Ands of 3… AND 4. \n8 Legs and 8 arms\, in a room\, stretching deeper than they ever knew they could.\nThe Intros have Outros.\nThe Outros have Bridges. \nDon’t like the Jam? ……. Just wait five minutes. \nLike turtle doves in a snow storm\, Fate has brought us together again with Producer and long time collaborator Jonathon Wilson. And for this\, we are forever grateful. \nour 8th studio record to date. Unless you don’t count the first seven\, then this would be our DEBUT RECORD! \nWe left quite a mess out there\, and if each person reading this picks up just one piece of trash on their way out… \nThen we’ll leave this planet more beautiful than the day we found it \n  \nFIND MORE ROADRUNNER SHOWS HERE \n\n  \n 
URL:https://theriverboston.com/events/dawes-roadrunner/
LOCATION:Roadrunner\, 89 Guest Street\, Boston\, MA\, 02135\, United States
END:VEVENT
BEGIN:VEVENT
DTSTART;TZID=America/New_York:20241122T193000
DTEND;TZID=America/New_York:20241122T193000
DTSTAMP:20260422T230019
CREATED:20240916T190734Z
LAST-MODIFIED:20240916T191036Z
UID:225133-1732303800-1732303800@theriverboston.com
SUMMARY:Amy Helm at The Cut in Gloucester
DESCRIPTION:Buy Tickets Here\nAMY HELM W/ SPECIAL GUEST MARK ERELLI\nDoors: 7 PM\nShow: 7:30 PM\nThis will be a full band performance! \nWhen creating her fourth album\, the soulful and reflective Silver City\, Amy Helm was guided by her North Star: women’s voices. “Women whispering\, singing\, shouting their stories – speaking the truth. I wanted to dig into that inherited narrative and reach for what I could.” The epistolary anthology is a collection of conversations that travel through time\, exploring and celebrating womanhood in all its complexities. Silver City blends the folk twang of Helm’s childhood with gospel and soul\, drawing inspiration from varied stories: the life of Helm’s great-grandmother\, the story of a young fan struggling with substance abuse\, Helm’s own life as a single mother and hard-touring singer. Recorded at Levon Helm Studios in Woodstock\, New York\, and produced by Josh Kaufman\, the album finds Helm exploring themes of womanhood\, single motherhood\, and personal struggles\, offering songs that are deeply personal and narrative-driven. With Silver City\, Helm embraces the beauty of age\, survival\, and transformation through her powerful\, story-rooted performances. \n\n  \nFIND MORE SHOWS AT THE CUT
URL:https://theriverboston.com/events/amy-helm-the-cut/
LOCATION:The Cut Live\, 177 Main St\, Gloucester\, MA\, 01930\, United States
END:VEVENT
END:VCALENDAR