BEGIN:VCALENDAR
VERSION:2.0
PRODID:-//92.5 the River - ECPv5.16.3.1//NONSGML v1.0//EN
CALSCALE:GREGORIAN
METHOD:PUBLISH
X-WR-CALNAME:92.5 the River
X-ORIGINAL-URL:https://theriverboston.com
X-WR-CALDESC:Events for 92.5 the River
BEGIN:VTIMEZONE
TZID:America/New_York
BEGIN:DAYLIGHT
TZOFFSETFROM:-0500
TZOFFSETTO:-0400
TZNAME:EDT
DTSTART:20240310T070000
END:DAYLIGHT
BEGIN:STANDARD
TZOFFSETFROM:-0400
TZOFFSETTO:-0500
TZNAME:EST
DTSTART:20241103T060000
END:STANDARD
END:VTIMEZONE
BEGIN:VEVENT
DTSTART;TZID=America/New_York:20241208T190000
DTEND;TZID=America/New_York:20241208T190000
DTSTAMP:20260423T221938
CREATED:20241105T213556Z
LAST-MODIFIED:20241105T213556Z
UID:225501-1733684400-1733684400@theriverboston.com
SUMMARY:Straight No Chaser @ MGM Music Hall
DESCRIPTION:Look up “holiday music” in the dictionary\, and it’s likely that there is a photo of the nine-person a cappella group Straight No Chaser instead of a standard definition. For more than two decades\, the group has provided the soundtrack of the season\, bringing millions of fans to their feet while putting them in the holiday spirit. Year after year\, fans anxiously await the moment they can officially hit play on Straight No Chaser favorites. \nTickets
URL:https://theriverboston.com/events/straight-no-chaser-mgm-music-hall/
LOCATION:MGM Music Hall at Fenway\, 2 Lansdowne Street\, Boston\, MA\, 02215\, United States
END:VEVENT
END:VCALENDAR