BEGIN:VCALENDAR
VERSION:2.0
PRODID:-//92.5 the River - ECPv5.16.3.1//NONSGML v1.0//EN
CALSCALE:GREGORIAN
METHOD:PUBLISH
X-WR-CALNAME:92.5 the River
X-ORIGINAL-URL:https://theriverboston.com
X-WR-CALDESC:Events for 92.5 the River
BEGIN:VTIMEZONE
TZID:America/New_York
BEGIN:DAYLIGHT
TZOFFSETFROM:-0500
TZOFFSETTO:-0400
TZNAME:EDT
DTSTART:20240310T070000
END:DAYLIGHT
BEGIN:STANDARD
TZOFFSETFROM:-0400
TZOFFSETTO:-0500
TZNAME:EST
DTSTART:20241103T060000
END:STANDARD
END:VTIMEZONE
BEGIN:VEVENT
DTSTART;TZID=America/New_York:20241214T200000
DTEND;TZID=America/New_York:20241214T200000
DTSTAMP:20260424T062958
CREATED:20241009T171649Z
LAST-MODIFIED:20241009T171649Z
UID:225308-1734206400-1734206400@theriverboston.com
SUMMARY:Lake Street Dive @ MGM Music Hall
DESCRIPTION:Lake Street Dive have added a second show to their run in Boston! \nGet your tickets
URL:https://theriverboston.com/events/lsd-mgm-night2/
LOCATION:MGM Music Hall at Fenway\, 2 Lansdowne Street\, Boston\, MA\, 02215\, United States
END:VEVENT
END:VCALENDAR