BEGIN:VCALENDAR
VERSION:2.0
PRODID:-//92.5 the River - ECPv5.16.3.1//NONSGML v1.0//EN
CALSCALE:GREGORIAN
METHOD:PUBLISH
X-WR-CALNAME:92.5 the River
X-ORIGINAL-URL:https://theriverboston.com
X-WR-CALDESC:Events for 92.5 the River
BEGIN:VTIMEZONE
TZID:America/New_York
BEGIN:DAYLIGHT
TZOFFSETFROM:-0500
TZOFFSETTO:-0400
TZNAME:EDT
DTSTART:20250309T070000
END:DAYLIGHT
BEGIN:STANDARD
TZOFFSETFROM:-0400
TZOFFSETTO:-0500
TZNAME:EST
DTSTART:20251102T060000
END:STANDARD
END:VTIMEZONE
BEGIN:VEVENT
DTSTART;TZID=America/New_York:20250314T070000
DTEND;TZID=America/New_York:20250316T070000
DTSTAMP:20260425T183635
CREATED:20250123T171236Z
LAST-MODIFIED:20250123T171236Z
UID:226066-1741935600-1742108400@theriverboston.com
SUMMARY:Dropkick Murphys @ MGM Music Hall
DESCRIPTION:Dropkick Murphys | March 14-16  \nDoors: 6pm | Show: 7pm \nDropkick Murphys are heading to Boston! Join them on one of their three shows of their St. Patrick’s Day 2025 tour at MGM music hall! Grab your tickets today! \nGrab tickets here!
URL:https://theriverboston.com/events/dropkick-murphys-mgm-music-hall/
LOCATION:MGM Music Hall at Fenway\, 2 Lansdowne Street\, Boston\, MA\, 02215\, United States
END:VEVENT
BEGIN:VEVENT
DTSTART;TZID=America/New_York:20250316T153000
DTEND;TZID=America/New_York:20250316T173000
DTSTAMP:20260425T183635
CREATED:20250312T133618Z
LAST-MODIFIED:20250312T133650Z
UID:226655-1742139000-1742146200@theriverboston.com
SUMMARY:Achilles International Presents: Adaptive Sports & Fashion Show
DESCRIPTION:Adaptive Sports & Fashion Show | Sunday\, March 16th \nDoors: 3:00pm | Show: 3:30pm \nOn March 16\, 2025\, Achilles International Boston will host a groundbreaking Adaptive Sports and Fashion Show that promises to redefine what it means to be stylish\, strong\, and inclusive. This unique event will bring together top adaptive athletes\, cutting-edge designers\, and the broader community for an afternoon of sports demonstration and runway presentations. \nThis collaboration between sports and fashion underscores the growing movement toward inclusivity in both industries\, challenging conventional norms and embracing diversity in all its forms. \nDon’t miss this opportunity to witness adaptive athletes and models showcase their talents and fashion in an inclusive environment. Whether you’re a sports enthusiast\, fashion lover\, or simply looking for an event celebrating diversity and resilience\, the Adaptive Sports & Fashion Show is the place to be. \nMark your calendars and be part of this extraordinary experience! \nGet tickets here!
URL:https://theriverboston.com/events/adaptive-sports-fashion-show/
LOCATION:Reggie Lewis Track and Athletic Center\, 1350 Tremont St.\, Boston\, MA\, 02120\, United States
END:VEVENT
END:VCALENDAR