BEGIN:VCALENDAR
VERSION:2.0
PRODID:-//92.5 the River - ECPv5.16.3.1//NONSGML v1.0//EN
CALSCALE:GREGORIAN
METHOD:PUBLISH
X-WR-CALNAME:92.5 the River
X-ORIGINAL-URL:https://theriverboston.com
X-WR-CALDESC:Events for 92.5 the River
BEGIN:VTIMEZONE
TZID:America/New_York
BEGIN:DAYLIGHT
TZOFFSETFROM:-0500
TZOFFSETTO:-0400
TZNAME:EDT
DTSTART:20250309T070000
END:DAYLIGHT
BEGIN:STANDARD
TZOFFSETFROM:-0400
TZOFFSETTO:-0500
TZNAME:EST
DTSTART:20251102T060000
END:STANDARD
END:VTIMEZONE
BEGIN:VEVENT
DTSTART;TZID=America/New_York:20250318T193000
DTEND;TZID=America/New_York:20250318T193000
DTSTAMP:20260425T150742
CREATED:20250123T180021Z
LAST-MODIFIED:20250123T180021Z
UID:226064-1742326200-1742326200@theriverboston.com
SUMMARY:MISNEACH Festival by Dermot Kennedy @ Brighton Music Hall
DESCRIPTION:MISNEACH Festival by Dermot Kennedy @ Brighton Music Hall | Tuesday\, March 18th \nDoors: 6:30pm | Show: 7:30pm \nCritically acclaimed\, multi-platinum singer/songwriter Dermot Kennedy announced MISNEACH\, a brand-new annual global music festival and celebration of Ireland’s rich musical heritage to coincide with the St Patrick’s Day celebrations in March 2025. MISNEACH (pron. mish-nyach\, meaning ‘Courage’ in Gaelic) will be held this March across two cities central to the Irish diaspora and with thriving Irish culture: Sydney\, Australia on March 16 and Boston\, USA on March 18-19. \nThe twin festivals will form a vital new part of each city’s St. Patrick’s Day celebrations\, providing a renewed focus on contemporary and traditional Irish music through lineups curated by Dermot Kennedy in partnership with Ireland Music Week. Join Dermot at Brighton Music Hall on March 18th for a lively celebration of Irish music and culture! \n“For so many years now I have watched the St Patrick’s Day celebrations in so many different cities with a massive sense of pride.” explains Dermot; “I’ve always been so moved by the way Irish history and culture is celebrated all over the world. But I’ve also had the feeling that\, for a country so rich in culture\, I didn’t see it being represented fully in these events worldwide and I wondered\, could we change that?” \nGet your tickets today!
URL:https://theriverboston.com/events/dermot-kennedy-brighton/
LOCATION:Brighton Music Hall\, 158 Brighton Ave\, Allston\, MA\, 02134\, United States
END:VEVENT
END:VCALENDAR