BEGIN:VCALENDAR
VERSION:2.0
PRODID:-//92.5 the River - ECPv5.16.3.1//NONSGML v1.0//EN
CALSCALE:GREGORIAN
METHOD:PUBLISH
X-WR-CALNAME:92.5 the River
X-ORIGINAL-URL:https://theriverboston.com
X-WR-CALDESC:Events for 92.5 the River
BEGIN:VTIMEZONE
TZID:America/New_York
BEGIN:DAYLIGHT
TZOFFSETFROM:-0500
TZOFFSETTO:-0400
TZNAME:EDT
DTSTART:20250309T070000
END:DAYLIGHT
BEGIN:STANDARD
TZOFFSETFROM:-0400
TZOFFSETTO:-0500
TZNAME:EST
DTSTART:20251102T060000
END:STANDARD
END:VTIMEZONE
BEGIN:VEVENT
DTSTART;TZID=America/New_York:20250328T200000
DTEND;TZID=America/New_York:20250329T200000
DTSTAMP:20260424T224823
CREATED:20250123T173314Z
LAST-MODIFIED:20250123T173314Z
UID:226069-1743192000-1743278400@theriverboston.com
SUMMARY:Nathaniel Rateliff @ MGM Music Hall
DESCRIPTION:Nathaniel Rateliff | March 28th & 29th \nDoors: 7pm | Show: 8pm  \nNathaniel Rateliff & The Night Sweats are coming to Boston! Join them on their two night stop of the South of Here Tour! Grab your tickets to see them at MGM Music Hall! \nGet your tickets today!
URL:https://theriverboston.com/events/nathaniel-rateliff-mgm-music-hall/
LOCATION:MGM Music Hall at Fenway\, 2 Lansdowne Street\, Boston\, MA\, 02215\, United States
END:VEVENT
END:VCALENDAR