BEGIN:VCALENDAR
VERSION:2.0
PRODID:-//92.5 the River - ECPv5.16.3.1//NONSGML v1.0//EN
CALSCALE:GREGORIAN
METHOD:PUBLISH
X-WR-CALNAME:92.5 the River
X-ORIGINAL-URL:https://theriverboston.com
X-WR-CALDESC:Events for 92.5 the River
BEGIN:VTIMEZONE
TZID:America/New_York
BEGIN:DAYLIGHT
TZOFFSETFROM:-0500
TZOFFSETTO:-0400
TZNAME:EDT
DTSTART:20250309T070000
END:DAYLIGHT
BEGIN:STANDARD
TZOFFSETFROM:-0400
TZOFFSETTO:-0500
TZNAME:EST
DTSTART:20251102T060000
END:STANDARD
END:VTIMEZONE
BEGIN:VEVENT
DTSTART;VALUE=DATE:20250626
DTEND;VALUE=DATE:20250629
DTSTAMP:20260419T084302
CREATED:20250520T143310Z
LAST-MODIFIED:20250520T143310Z
UID:227374-1750896000-1751155199@theriverboston.com
SUMMARY:Intown Concord Market Days Festival
DESCRIPTION:Market Days Festival | Thursday\, June 26th – Saturday\, June 28th  \n10:00 am – 10:00 pm Daily \nGet ready for Market Days – Concord’s biggest summer celebration! This three-day street festival takes over downtown with high-energy vibes and small-town charm\, all thanks to Intown Concord\, a passionate nonprofit with deep roots in the heart of the city. \nMain Street transforms into a vibrant marketplace featuring 150+ vendors offering everything from mouthwatering eats and unique fashion finds to handcrafted jewelry and unexpected treasures. \nBut that’s not all—three stages will be rocking all weekend long with an incredible lineup of local legends and nationally known acts. Whether you’re there for the tunes\, the food\, or just the good vibes\, Market Days is the summer experience you don’t want to miss! \nCheck Out Market Days!
URL:https://theriverboston.com/events/market-days-festival/
LOCATION:Main Street Concord\, 1 North Main Street\, Concord\, NH\, 03301\, United States
END:VEVENT
BEGIN:VEVENT
DTSTART;TZID=America/New_York:20250626T170000
DTEND;TZID=America/New_York:20250626T190000
DTSTAMP:20260419T084302
CREATED:20250619T162841Z
LAST-MODIFIED:20250626T160930Z
UID:227802-1750957200-1750964400@theriverboston.com
SUMMARY:Kona Bar Night @ The Oysterman!
DESCRIPTION:Kona Bar Night @ The Oysterman | Thursday\, June 26th \n5pm-7pm \nThe Oysterman in Scituate is hosting a Kona Bar Night on Thursday\, June 26th! Stop by for a chance to win tickets to Levitate Music Festival! \nJoin the River Roadies between 5 and 7pm to spin the River Prize Wheel for a chance to win some awesome merch from Kona and the River…and enter to WIN TICKETS TO LEVITATE (for those who are 21+)!! \nIt’s all happening thanks to Kona Big Wave. Liquid Aloha.
URL:https://theriverboston.com/events/kona-the-oysterman/
LOCATION:The Oysterman\, 348 Driftway\, Scituate\, Massachusetts\, 02066\, United States
END:VEVENT
BEGIN:VEVENT
DTSTART;TZID=America/New_York:20250626T173000
DTEND;TZID=America/New_York:20250626T200000
DTSTAMP:20260419T084302
CREATED:20231219T144708Z
LAST-MODIFIED:20250508T144741Z
UID:222344-1750959000-1750968000@theriverboston.com
SUMMARY:NH Magazine's Annual BEST OF NH event 2025
DESCRIPTION:The Best of NH Party 2025 returns to Flag Hill Distillery and Winery on Thursday\, June 26 Sponsored in part by 92.5 The River to enjoy sampling of New Hampshire’s best food and drink while enjoying the sounds of Mica’s Groove Train. The event will be an elegant tent and garden party celebrating the best the state has to offer at one of NH’s most beautiful local treasures. Get your tickets today! \n  \nThursday\, June 26\, 2025\nGeneral admission: 6-8 p.m.\nEarly access: Starts at 5:30 p.m. \n\nFlag Hill Distillery and Winery\n297 North River Road\nLee\, New Hampshire \n  \nPlease be aware: this event is intended to be a 21+ event\, please be prepared to show your ID at event entry.
URL:https://theriverboston.com/events/nh-magazines-annual-best-of-nh-event-2025/
LOCATION:Flag Hill Distillery and Winery\, 297 North River Road\, Lee\, NH\, United States
END:VEVENT
BEGIN:VEVENT
DTSTART;TZID=America/New_York:20250626T180000
DTEND;TZID=America/New_York:20250626T180000
DTSTAMP:20260419T084302
CREATED:20250325T152407Z
LAST-MODIFIED:20250325T152407Z
UID:226806-1750960800-1750960800@theriverboston.com
SUMMARY:Adam Ezra Group @ Lake Morey
DESCRIPTION:Adam Ezra Group | Thursday\, June 26th \nDoors: 6 pm | Show: 8 pm \nAdam Ezra Group is bringing their high-energy\, folk-rock sound to the Lake Morey Summer Concert Series this June – and admission is free! \nRenowned for their passionate performances and deep connection with fans\, Adam Ezra and his band create an electrifying atmosphere with every show. Blending rock\, roots\, and storytelling\, their music is anthemic\, heartfelt\, and unforgettable. \nDon’t miss your chance to experience the magic live by the water at Lake Morey for one special night!
URL:https://theriverboston.com/events/adam-ezra-group-lake-morey/
LOCATION:Lake Morey Resort\, 82 Clubhouse Road\, Fairlee\, Vermont\, 05045\, United States
END:VEVENT
BEGIN:VEVENT
DTSTART;TZID=America/New_York:20250626T193000
DTEND;TZID=America/New_York:20250626T193000
DTSTAMP:20260419T084302
CREATED:20250318T170149Z
LAST-MODIFIED:20250318T170149Z
UID:226730-1750966200-1750966200@theriverboston.com
SUMMARY:Counting Crows @ MGM Music Hall at Fenway
DESCRIPTION:Counting Crows | Thursday\, June 26 \nDoors: 6:30 pm | Show: 7:30  pm \nCounting Crows are hitting the road on their Complete Sweets Tour and making a stop at MGM Music Hall at Fenway this June! \nWith their iconic sound blending rock\, folk\, and soulful ballads\, Counting Crows have been mesmerizing fans for decades. Known for timeless hits like “Mr. Jones” and “Accidentally in Love\,” as well as their infectious energy and heartfelt lyrics\, their live performances are a must-see. \nDon’t miss your chance to catch Adam Duritz and the band bring their magic along with special guest The Gaslight Anthem to MGM Music Hall at Fenway! \nGet your tickets here!
URL:https://theriverboston.com/events/counting-crows-mgm-music-hall-at-fenway/
LOCATION:MGM Music Hall at Fenway\, 2 Lansdowne Street\, Boston\, MA\, 02215\, United States
END:VEVENT
END:VCALENDAR