BEGIN:VCALENDAR
VERSION:2.0
PRODID:-//92.5 the River - ECPv5.16.3.1//NONSGML v1.0//EN
CALSCALE:GREGORIAN
METHOD:PUBLISH
X-WR-CALNAME:92.5 the River
X-ORIGINAL-URL:https://theriverboston.com
X-WR-CALDESC:Events for 92.5 the River
BEGIN:VTIMEZONE
TZID:America/New_York
BEGIN:DAYLIGHT
TZOFFSETFROM:-0500
TZOFFSETTO:-0400
TZNAME:EDT
DTSTART:20250309T070000
END:DAYLIGHT
BEGIN:STANDARD
TZOFFSETFROM:-0400
TZOFFSETTO:-0500
TZNAME:EST
DTSTART:20251102T060000
END:STANDARD
END:VTIMEZONE
BEGIN:VEVENT
DTSTART;TZID=America/New_York:20250710T180000
DTEND;TZID=America/New_York:20250710T180000
DTSTAMP:20260419T084302
CREATED:20250325T153232Z
LAST-MODIFIED:20250325T153232Z
UID:226813-1752170400-1752170400@theriverboston.com
SUMMARY:Amos Lee @ Lake Morey
DESCRIPTION:Amos Lee | Thursday\, July 10th \nDoors: 6 pm| Show: 8 pm \n Amos Lee is taking the stage at the Lake Morey Summer Concert Series! With his signature blend of folk\, rock\, and blues\, Amos delivers heartfelt lyrics and smooth\, captivating vocals that have won over audiences worldwide. \nFrom fan favorites like Arms of a Woman to the uplifting Sweet Pea\, his live performances are nothing short of mesmerizing. \nDon’t miss this unforgettable evening of music—free admission! Grab a blanket\, bring your friends\, and enjoy an incredible night by the lake.
URL:https://theriverboston.com/events/amos-lee-lake-morey/
LOCATION:Lake Morey Resort\, 82 Clubhouse Road\, Fairlee\, Vermont\, 05045\, United States
END:VEVENT
BEGIN:VEVENT
DTSTART;TZID=America/New_York:20250710T200000
DTEND;TZID=America/New_York:20250710T200000
DTSTAMP:20260419T084302
CREATED:20250707T204126Z
LAST-MODIFIED:20250707T204126Z
UID:227985-1752177600-1752177600@theriverboston.com
SUMMARY:Ryan Adams at Casino Ballroom
DESCRIPTION:Buy Tickets Here \nAn Evening with Heartbreaker 25 World Tour\nRyan Adams\nDoors: 7 PM | 18+\nRyan Adams is a seven-time Grammy nominated singer-songwriter praised as “one of rock’s most talented songwriters”. \nFormerly fronting rock-americana groups Whiskeytown and Ryan Adams & the Cardinals\, Adams has the ability to connect with audiences across a variety of different mediums. \nFIND MORE CASINO BALLROOM SHOWS HERE
URL:https://theriverboston.com/events/ryan-adams-casino-ballroom-2025/
LOCATION:Hampton Beach Casino Ballroom\, 169 Ocean Blvd\, Hampton\, NH\, United States
END:VEVENT
END:VCALENDAR