BEGIN:VCALENDAR
VERSION:2.0
PRODID:-//92.5 the River - ECPv5.16.3.1//NONSGML v1.0//EN
CALSCALE:GREGORIAN
METHOD:PUBLISH
X-WR-CALNAME:92.5 the River
X-ORIGINAL-URL:https://theriverboston.com
X-WR-CALDESC:Events for 92.5 the River
BEGIN:VTIMEZONE
TZID:America/New_York
BEGIN:DAYLIGHT
TZOFFSETFROM:-0500
TZOFFSETTO:-0400
TZNAME:EDT
DTSTART:20250309T070000
END:DAYLIGHT
BEGIN:STANDARD
TZOFFSETFROM:-0400
TZOFFSETTO:-0500
TZNAME:EST
DTSTART:20251102T060000
END:STANDARD
END:VTIMEZONE
BEGIN:VEVENT
DTSTART;TZID=America/New_York:20250712T180000
DTEND;TZID=America/New_York:20250712T180000
DTSTAMP:20260419T084300
CREATED:20250225T201911Z
LAST-MODIFIED:20250225T201911Z
UID:226492-1752343200-1752343200@theriverboston.com
SUMMARY:Father John Misty @ Thompson's Point State Theatre
DESCRIPTION:Father John Misty | Saturday\, July 12th \nDoors: 5pm | Show: 6pm \nFather John Misty is coming to Maine this July! \nWith millions of albums sold and performances at iconic venues worldwide\, his shows are a must-see for music lovers. \nThe New York Times has called him “a master of his craft\,” while Rolling Stone praised his ability to “captivate an audience with his raw emotion and wit.” Whether you’re a long-time fan or discovering his work for the first time\, don’t miss the chance to witness Father John Misty live on tour—an unforgettable experience awaits! \nTicks are on sale February 28th-Grab them here! \nGrab your tickets here!
URL:https://theriverboston.com/events/father-john-misty-thompsons-point-state-theatre/
LOCATION:Thompson’s Point\, State Theatre Portland Maine\, 609 Congress St\, Portland\, ME\, 04101\, United States
END:VEVENT
BEGIN:VEVENT
DTSTART;TZID=America/New_York:20250712T200000
DTEND;TZID=America/New_York:20250712T200000
DTSTAMP:20260419T084300
CREATED:20250707T204947Z
LAST-MODIFIED:20250708T154752Z
UID:227989-1752350400-1752350400@theriverboston.com
SUMMARY:Michael Franti & Spearhead at Casino Ballroom!
DESCRIPTION:Buy Tickets Here \nWelcome to the Family Tour\nMichael Franti & Spearhead\nwith Bombargo\nDoors: 7 PM | 18+\nMichael Franti is a globally recognized musician\, activist\, and award-winning filmmaker celebrated for his high-energy live shows\, inspiring music\, worldwide philanthropic efforts\, and unshakable optimism. Over his multi-decade career\, Franti has earned three Billboard No. 1 hits with the uplifting anthems “Sound of Sunshine\,” “Say Hey (I Love You)\,” and “I Got You\,” along with six Top 30 Hot AC singles\, 10 Top 25 AAA singles\, and three Billboard Top 5 Rock Albums. His 13th studio album\, Big Big Love\, released in November 2023\, debuted in the Top 5 on the iTunes Pop Chart behind Taylor Swift. Praised by American Songwriter as “an energizing batch of songs that spotlight the common threads that connect us\,” the album features 17 tracks co-written by Franti\, showcasing his signature tenacity\, inclusiveness\, and optimism. \nIn 2025\, Franti will embark on the Welcome To The Family Tour\, a large summer tour across the US that celebrates connection\, unity\, and community. Additionally\, Michael is set to release his brand-new album this year\, Welcome To The Family\, continuing his legacy of creating music that uplifts and inspires. It is slated to be released on March 28th\, and will be his 14th studio album\, featuring 13 incredible new songs! \nFIND MORE CASINO BALLROOM SHOWS HERE
URL:https://theriverboston.com/events/michael-franti-casino-ballroom/
LOCATION:Hampton Beach Casino Ballroom\, 169 Ocean Blvd\, Hampton\, NH\, United States
END:VEVENT
END:VCALENDAR