BEGIN:VCALENDAR
VERSION:2.0
PRODID:-//92.5 the River - ECPv5.16.3.1//NONSGML v1.0//EN
CALSCALE:GREGORIAN
METHOD:PUBLISH
X-WR-CALNAME:92.5 the River
X-ORIGINAL-URL:https://theriverboston.com
X-WR-CALDESC:Events for 92.5 the River
BEGIN:VTIMEZONE
TZID:America/New_York
BEGIN:DAYLIGHT
TZOFFSETFROM:-0500
TZOFFSETTO:-0400
TZNAME:EDT
DTSTART:20250309T070000
END:DAYLIGHT
BEGIN:STANDARD
TZOFFSETFROM:-0400
TZOFFSETTO:-0500
TZNAME:EST
DTSTART:20251102T060000
END:STANDARD
END:VTIMEZONE
BEGIN:VEVENT
DTSTART;TZID=America/New_York:20250717T180000
DTEND;TZID=America/New_York:20250718T180000
DTSTAMP:20260419T084301
CREATED:20250213T182150Z
LAST-MODIFIED:20250227T170215Z
UID:226348-1752775200-1752861600@theriverboston.com
SUMMARY:The Lumineers @ Fenway Park
DESCRIPTION:  \n\nThe Lumineers | July 17th & 18th \nShow: 6pm \n\nThe Lumineers are coming to the most loved ballpark in America for two shows! Get ready because they are hitting the road for The Automatic World Tour bringing their signature folk-rock energy to Boston\, and they’re bringing along special guests\, Hippo Campus and Young the Giant! Get your tickets today to join them on tour!\n\nGrab your tickets here!
URL:https://theriverboston.com/events/the-lumineers-fenway-park/
LOCATION:Fenway Park\, 4 Yawkey Way\, Boston\, MA\, 02215\, United States
END:VEVENT
BEGIN:VEVENT
DTSTART;TZID=America/New_York:20250718T200000
DTEND;TZID=America/New_York:20250718T200000
DTSTAMP:20260419T084301
CREATED:20250707T205757Z
LAST-MODIFIED:20250707T205757Z
UID:227993-1752868800-1752868800@theriverboston.com
SUMMARY:Trevor Hall at Casino Ballroom
DESCRIPTION:Buy Tickets Here \nDamn Right Encore Tour\nBuddy Guy\nwith Taj Farrant\nDoors: 7 PM | 18+\nTrevor Hall and The Great In-Between marks the start of a new era for musician Trevor Hall. Releasing September 15th\, 2023 on Hall’s own 3 Rivers Label\, the highly-anticipated record delivers a future-folk masterpiece anchored in Hall’s beloved style\, while simultaneously bringing a refreshing new sound to the forefront. Created solely within the confines of a barn-turned-studio in his own backyard\, this record marks the first of Hall’s career where he helmed every aspect of the production process. Penned without external influence and from a purely creative and explorative space\, Trevor Hall and the Great In-Between unveils raw and unfiltered facets of Hall that remain undiscovered. \nFIND MORE CASINO BALLROOM SHOWS HERE
URL:https://theriverboston.com/events/trevor-hall-casino-ballroom-2025/
LOCATION:Hampton Beach Casino Ballroom\, 169 Ocean Blvd\, Hampton\, NH\, United States
END:VEVENT
BEGIN:VEVENT
DTSTART;TZID=America/New_York:20250718T200000
DTEND;TZID=America/New_York:20250719T200000
DTSTAMP:20260419T084301
CREATED:20250714T184316Z
LAST-MODIFIED:20250714T184403Z
UID:228113-1752868800-1752955200@theriverboston.com
SUMMARY:TWO Pixies Shows @ MGM Music Hall!
DESCRIPTION:Pixies | July 18/19th \nDoors: 7:00pm | Show: 8:00pm \nPixies are embarking on a 2025 summer tour with a twist. Each stop will feature back to back nights. \n\nNight 1 – Pixies will play their 1990 album Bossanova and their 1991 album Trompe Le Monde\nNight 2 – Pixies will play some of their biggest hits and fan favorites\, along with music from the latest 2024 album\, The Night The Zombies Came\n\nFind tickets below\, and help welcome back Pixies to their hometown! \nMore info here!
URL:https://theriverboston.com/events/pixies-mgm-back2back/
LOCATION:MGM Music Hall at Fenway\, 2 Lansdowne Street\, Boston\, MA\, 02215\, United States
END:VEVENT
END:VCALENDAR