BEGIN:VCALENDAR
VERSION:2.0
PRODID:-//92.5 the River - ECPv5.16.3.1//NONSGML v1.0//EN
CALSCALE:GREGORIAN
METHOD:PUBLISH
X-WR-CALNAME:92.5 the River
X-ORIGINAL-URL:https://theriverboston.com
X-WR-CALDESC:Events for 92.5 the River
BEGIN:VTIMEZONE
TZID:America/New_York
BEGIN:DAYLIGHT
TZOFFSETFROM:-0500
TZOFFSETTO:-0400
TZNAME:EDT
DTSTART:20250309T070000
END:DAYLIGHT
BEGIN:STANDARD
TZOFFSETFROM:-0400
TZOFFSETTO:-0500
TZNAME:EST
DTSTART:20251102T060000
END:STANDARD
END:VTIMEZONE
BEGIN:VEVENT
DTSTART;TZID=America/New_York:20250718T200000
DTEND;TZID=America/New_York:20250719T200000
DTSTAMP:20260420T060943
CREATED:20250714T184316Z
LAST-MODIFIED:20250714T184403Z
UID:228113-1752868800-1752955200@theriverboston.com
SUMMARY:TWO Pixies Shows @ MGM Music Hall!
DESCRIPTION:Pixies | July 18/19th \nDoors: 7:00pm | Show: 8:00pm \nPixies are embarking on a 2025 summer tour with a twist. Each stop will feature back to back nights. \n\nNight 1 – Pixies will play their 1990 album Bossanova and their 1991 album Trompe Le Monde\nNight 2 – Pixies will play some of their biggest hits and fan favorites\, along with music from the latest 2024 album\, The Night The Zombies Came\n\nFind tickets below\, and help welcome back Pixies to their hometown! \nMore info here!
URL:https://theriverboston.com/events/pixies-mgm-back2back/
LOCATION:MGM Music Hall at Fenway\, 2 Lansdowne Street\, Boston\, MA\, 02215\, United States
END:VEVENT
BEGIN:VEVENT
DTSTART;TZID=America/New_York:20250719T120000
DTEND;TZID=America/New_York:20250719T190000
DTSTAMP:20260420T060943
CREATED:20250422T154840Z
LAST-MODIFIED:20250422T154840Z
UID:227083-1752926400-1752951600@theriverboston.com
SUMMARY:Brews & Blues @ Anheuser-Busch Brewery
DESCRIPTION:Brews & Blues | Saturday\, July 19th \nTime: 12-7 pm  \nGet ready to tap your toes and raise your glasses\, friends! Enjoy cold craft brews\, mouthwatering bites\, and soul-stirring blues performances that will have you dancing all day long! Music by: Clandestine Funk\, Johnny A. & James Montgomery Band. Presented by The River 92.5! \n-21+ show \n-Doors open at 12pm \n-Bring your own chairs \n-No outside drinks or food \n-Held rain or shine \n-Drinks & Food available for purchase \n*Tickets are limited – $35 \nGet tickets here!
URL:https://theriverboston.com/events/brews-blues-anheuser-busch-brewery/
LOCATION:Anheuser-Busch Brewery\, 221 Daniel Webster Highway\, Merrimack\, NH\, 03054\, United States
END:VEVENT
END:VCALENDAR