BEGIN:VCALENDAR
VERSION:2.0
PRODID:-//92.5 the River - ECPv5.16.3.1//NONSGML v1.0//EN
CALSCALE:GREGORIAN
METHOD:PUBLISH
X-WR-CALNAME:92.5 the River
X-ORIGINAL-URL:https://theriverboston.com
X-WR-CALDESC:Events for 92.5 the River
BEGIN:VTIMEZONE
TZID:America/New_York
BEGIN:DAYLIGHT
TZOFFSETFROM:-0500
TZOFFSETTO:-0400
TZNAME:EDT
DTSTART:20250309T070000
END:DAYLIGHT
BEGIN:STANDARD
TZOFFSETFROM:-0400
TZOFFSETTO:-0500
TZNAME:EST
DTSTART:20251102T060000
END:STANDARD
END:VTIMEZONE
BEGIN:VEVENT
DTSTART;VALUE=DATE:20250802
DTEND;VALUE=DATE:20250811
DTSTAMP:20260419T084245
CREATED:20250728T155642Z
LAST-MODIFIED:20250728T155642Z
UID:228331-1754092800-1754870399@theriverboston.com
SUMMARY:League of N.H. Craftsmen's Fair @ Mount Sunapee Resort
DESCRIPTION:League of N.H. Craftsmen’s Fair | Saturday\, August 2nd – Sunday\, August 10th \nStrap on your goggles and grab your table saw! The League of N.H. Craftsmen’s Fair is back for its 92nd year\, and it’s better than ever! \nBeginning in 1933 and running for nine days each year\, the fair features the work of hundreds of craftsmen with sales booths\, interactive demonstrations\, and curated exhibitions. With OVER 20\,000 ANNUAL VISITORS\, you can experience the best in painting\, forging\, jewelry\, stained glass\, woodcarving\, and sculpture… all within the comfort of beautiful Mount Sunapee Resort! \nMore info here!
URL:https://theriverboston.com/events/craft-fair-nh/
LOCATION:Mount Sunapee Resort\, 1398 Rte 103\, Newbury\, 03255\, United States
END:VEVENT
BEGIN:VEVENT
DTSTART;TZID=America/New_York:20250807T170000
DTEND;TZID=America/New_York:20250807T190000
DTSTAMP:20260419T084245
CREATED:20250714T201313Z
LAST-MODIFIED:20250714T201313Z
UID:228136-1754586000-1754593200@theriverboston.com
SUMMARY:River Roadies at SurfSide on Salisbury Beach
DESCRIPTION:Join the River Roadies on Thursday\, 8/07/25 from 5-7pm on the deck at SurfSide on Salisbury Beach. SurfSide has awesome beach vibes with sensational views and fabulous fare. The River Roadies will have the prize wheel spinning\, and you could win some great River merchandise\, t-shirts and concert tickets. And while you’re there\, enter to win a pair of tickets to the Riverfest VIP Party on Salisbury Beach on Saturday\, 8/23/25 from 12pm-6pm. So join the River Roadies on the deck at SurfSide on Salisbury Beach on Thursday\, 8/07/25 from 5-7pm.
URL:https://theriverboston.com/events/river-roadies-at-surfside-on-salisbury-beach/
END:VEVENT
BEGIN:VEVENT
DTSTART;TZID=America/New_York:20250807T200000
DTEND;TZID=America/New_York:20250807T200000
DTSTAMP:20260419T084245
CREATED:20250327T185358Z
LAST-MODIFIED:20250327T185358Z
UID:226864-1754596800-1754596800@theriverboston.com
SUMMARY:KALEO @ Lake Morey
DESCRIPTION:KALEO | Thursday\, August 7th \nDoors: 7 pm | Show: 8 pm \nKALEO Live at Lake Morey – Free Summer Concert! \nGet ready for a night of powerful vocals\, bluesy guitar riffs\, and cinematic rock as KALEO takes the stage at the Lake Morey Summer Concert Series! Known for their electrifying live performances and hits like “Way Down We Go” and “No Good\,” this Icelandic band brings raw energy and soulful intensity to every show. \nDon’t miss this chance to experience KALEO’s unforgettable sound under the summer night sky—grab a spot and enjoy the music!
URL:https://theriverboston.com/events/kaleo-lake-morey/
LOCATION:Lake Morey Resort\, 82 Clubhouse Road\, Fairlee\, Vermont\, 05045\, United States
END:VEVENT
END:VCALENDAR