BEGIN:VCALENDAR
VERSION:2.0
PRODID:-//92.5 the River - ECPv5.16.3.1//NONSGML v1.0//EN
CALSCALE:GREGORIAN
METHOD:PUBLISH
X-WR-CALNAME:92.5 the River
X-ORIGINAL-URL:https://theriverboston.com
X-WR-CALDESC:Events for 92.5 the River
BEGIN:VTIMEZONE
TZID:America/New_York
BEGIN:DAYLIGHT
TZOFFSETFROM:-0500
TZOFFSETTO:-0400
TZNAME:EDT
DTSTART:20250309T070000
END:DAYLIGHT
BEGIN:STANDARD
TZOFFSETFROM:-0400
TZOFFSETTO:-0500
TZNAME:EST
DTSTART:20251102T060000
END:STANDARD
END:VTIMEZONE
BEGIN:VEVENT
DTSTART;TZID=America/New_York:20250813T190000
DTEND;TZID=America/New_York:20250813T190000
DTSTAMP:20260419T113056
CREATED:20250522T162553Z
LAST-MODIFIED:20250522T162604Z
UID:227451-1755111600-1755111600@theriverboston.com
SUMMARY:The Martin Sexton Abbey Road Show: River House Concert Series
DESCRIPTION:The Martin Sexton Abbey Road Show | Wednesday\, August 13th \nLocation: Wilcox Main Stage\, Prescott Park\, Portsmouth\, NH \nShow: 7 pm \nJoin us for an unforgettable night as Martin Sexton brings his acclaimed Abbey Road Show to the River House Restaurant Concert Series. With his soulful voice and inventive guitar work\, Sexton reimagines the Beatles’ iconic Abbey Road album in full\, followed by a powerful set of his own genre-blending originals. Called “the real thing” by Billboard\, Sexton’s dynamic live performances are known for uniting audiences through music. \nNo tickets required – just bring a blanket or lawn chair and enjoy the show! Optional Reservations for VIP tables and premium blanket spots are available and go live soon: \n\nSeason Passholders: Thursday\, May 22 at 10am\nGeneral Public: Tuesday\, May 27 at 10am\n\nSuggested donation: $15 to help keep the arts accessible for all. \nPrescott Park is the place to be this summer – and you don’t want to miss out! \nFREE and open to the public \nOfficial website here!
URL:https://theriverboston.com/events/the-martin-sexton-rhcs/
LOCATION:Prescott Park\, 105 Marcy Street\, Portsmouth\, NH\, 03801\, United States
END:VEVENT
BEGIN:VEVENT
DTSTART;TZID=America/New_York:20250813T190000
DTEND;TZID=America/New_York:20250813T190000
DTSTAMP:20260419T113056
CREATED:20250603T150233Z
LAST-MODIFIED:20250603T150337Z
UID:227576-1755111600-1755111600@theriverboston.com
SUMMARY:The Martin Sexton Abbey Road Show @ Prescott Park Arts Festival
DESCRIPTION:The Martin Sexton Abbey Road Show | Wednesday\, August 13th \nShow: 7 pm \nVeteran singer-songwriter Martin Sexton is coming to the Prescott Park Arts Festival this August for an electric night of Beatles covers! \nPerforming Abbey Road in its entirety\, Sexton breathes new life into classic songs with an energetic\, emotive stage presence\, earning a loyal following from fans\, critics\, and fellow musicians like Dave Matthews and John Mayer. With just a guitar\, a soulful voice\, and a message of peace and unity\, Martin Sexton concerts are unforgettable musical journeys. \nSecure your OPTIONAL reserved seating below\, and enjoy an evening of Beatlemania in downtown Portsmouth! \nReserved seating here!
URL:https://theriverboston.com/events/martin-sexton/
LOCATION:Prescott Park\, 105 Marcy Street\, Portsmouth\, NH\, 03801\, United States
END:VEVENT
END:VCALENDAR