BEGIN:VCALENDAR
VERSION:2.0
PRODID:-//92.5 the River - ECPv5.16.3.1//NONSGML v1.0//EN
CALSCALE:GREGORIAN
METHOD:PUBLISH
X-WR-CALNAME:92.5 the River
X-ORIGINAL-URL:https://theriverboston.com
X-WR-CALDESC:Events for 92.5 the River
BEGIN:VTIMEZONE
TZID:America/New_York
BEGIN:DAYLIGHT
TZOFFSETFROM:-0500
TZOFFSETTO:-0400
TZNAME:EDT
DTSTART:20250309T070000
END:DAYLIGHT
BEGIN:STANDARD
TZOFFSETFROM:-0400
TZOFFSETTO:-0500
TZNAME:EST
DTSTART:20251102T060000
END:STANDARD
END:VTIMEZONE
BEGIN:VEVENT
DTSTART;TZID=America/New_York:20250815T170000
DTEND;TZID=America/New_York:20250815T190000
DTSTAMP:20260419T141530
CREATED:20250723T153327Z
LAST-MODIFIED:20250723T153327Z
UID:228285-1755277200-1755284400@theriverboston.com
SUMMARY:Bud Light Bar Night: The Winner's Circle
DESCRIPTION:Bud Light Bar Night | Friday\, August 15th \nThe Winner’s Circle Sports Bar | 5-7pm \nWanna win a pair of VIP passes to Riverfest 2025? Stop by The Winner’s Circle Sports Bar in Salisbury\, MA on Friday\, August 15th! Hang with the River Roadies\, spin the River Prize Wheel\, and win some cool merch. PLUS: Enter for your chance to win VIP passes to Riverfest! Can’t wait to see you there! \nBrought to you by Bud Light. Easy to Drink. Easy to Enjoy.
URL:https://theriverboston.com/events/bud-light-winners-circle/
LOCATION:The Winner’s Circle\, 211 Elm St\, Salisbury\, MA\, 01952\, United States
END:VEVENT
BEGIN:VEVENT
DTSTART;TZID=America/New_York:20250815T193000
DTEND;TZID=America/New_York:20250815T193000
DTSTAMP:20260419T141530
CREATED:20250318T174603Z
LAST-MODIFIED:20250318T174603Z
UID:226734-1755286200-1755286200@theriverboston.com
SUMMARY:The Black Keys @ BankNH Pavilion
DESCRIPTION:The Black Keys | Friday\, August 15th \n Show: 7:30pm \n\n The Black Keys are bringing their electrifying sound to BankNH Pavilion on August 15th! Don’t miss out on the chance to see the three time Grammy-winning duo live in action on their No Rain\, No Flowers tour! Presale starts tomorrow\, so grab your tickets early and be part of an unforgettable night on their upcoming tour!\n\nGet your tickets here!
URL:https://theriverboston.com/events/the-black-keys-banknh-pavilion/
LOCATION:BankNH Pavilion\, 72 Meadowbrook Ln\, Gilford\, NH\, 03249\, United States
END:VEVENT
BEGIN:VEVENT
DTSTART;TZID=America/New_York:20250815T193000
DTEND;TZID=America/New_York:20250815T193000
DTSTAMP:20260419T141530
CREATED:20250529T142656Z
LAST-MODIFIED:20250529T142656Z
UID:227532-1755286200-1755286200@theriverboston.com
SUMMARY:Rob Thomas @ Leader Bank Pavilion
DESCRIPTION:Rob Thomas | Friday\, August 15th \nDoors: 6:30 pm | Show: 7:30 pm \nRob Thomas with special guest A Great Big World is hitting the Leader Bank Pavilion stage in Boston this summer!  Best known for being the frontman of Matchbox 20 and collaborating with Carlos Santana\, Rob Thomas is on the road solo to support his new album\, All Night Days\, while celebrating the 20th anniversary of his first album\, …Something To Be!.  His electric stage presence is sure to make for a riveting night! \nGet tickets here!
URL:https://theriverboston.com/events/rob-thomas-leader-bank/
LOCATION:Leader Bank Pavilion\, 290 Northern Ave\, Boston\, MA\, 02210\, United States
END:VEVENT
END:VCALENDAR