BEGIN:VCALENDAR
VERSION:2.0
PRODID:-//92.5 the River - ECPv5.16.3.1//NONSGML v1.0//EN
CALSCALE:GREGORIAN
METHOD:PUBLISH
X-WR-CALNAME:92.5 the River
X-ORIGINAL-URL:https://theriverboston.com
X-WR-CALDESC:Events for 92.5 the River
BEGIN:VTIMEZONE
TZID:America/New_York
BEGIN:DAYLIGHT
TZOFFSETFROM:-0500
TZOFFSETTO:-0400
TZNAME:EDT
DTSTART:20250309T070000
END:DAYLIGHT
BEGIN:STANDARD
TZOFFSETFROM:-0400
TZOFFSETTO:-0500
TZNAME:EST
DTSTART:20251102T060000
END:STANDARD
END:VTIMEZONE
BEGIN:VEVENT
DTSTART;TZID=America/New_York:20250820T193000
DTEND;TZID=America/New_York:20250820T193000
DTSTAMP:20260419T212625
CREATED:20250807T151639Z
LAST-MODIFIED:20250807T151639Z
UID:228411-1755718200-1755718200@theriverboston.com
SUMMARY:Jake Shimabukuro at Cary Hall
DESCRIPTION:View Tickets Here \nJAKE SHIMABUKURO WEDNESDAY AUGUST 20 @ 7:30 PM\nBy now\, if you know the ‘ukulele\, you might know the name\, the innovator who is Jake Shimabukuro. He has captivated audiences around the world with his unique and dynamic style. With his mother as his first teacher of the instrument\, Jake embraced a deep love and respect for the `ukulele and has explored new and unexpected ways to push the boundaries of what was possible on the humble four-strings. Each album has showcased his mastery of the instrument and his ability to weave together diverse genres to create a cohesive and captivating musical experience. He is undoubtedly one of the most innovative and exciting musicians of his generation\, changing the perception of the instrument itself and breaking barriers of what kind of music it is capable of. \n\nFind more concerts coming up at Cary Hall\nNot a Spectacle Live Member? Join today to gain presale access and more!
URL:https://theriverboston.com/events/jake-shimabukuro-cary-hall/
LOCATION:Cary Hall\, 1605 Massachusetts Ave\, Lexington\, MA\, 02420\, United States
ORGANIZER;CN="Spectacle%20Live":MAILTO:info@spectaclemanagement.net
END:VEVENT
END:VCALENDAR