BEGIN:VCALENDAR
VERSION:2.0
PRODID:-//92.5 the River - ECPv5.16.3.1//NONSGML v1.0//EN
CALSCALE:GREGORIAN
METHOD:PUBLISH
X-WR-CALNAME:92.5 the River
X-ORIGINAL-URL:https://theriverboston.com
X-WR-CALDESC:Events for 92.5 the River
BEGIN:VTIMEZONE
TZID:America/New_York
BEGIN:DAYLIGHT
TZOFFSETFROM:-0500
TZOFFSETTO:-0400
TZNAME:EDT
DTSTART:20250309T070000
END:DAYLIGHT
BEGIN:STANDARD
TZOFFSETFROM:-0400
TZOFFSETTO:-0500
TZNAME:EST
DTSTART:20251102T060000
END:STANDARD
END:VTIMEZONE
BEGIN:VEVENT
DTSTART;TZID=America/New_York:20250827T200000
DTEND;TZID=America/New_York:20250827T200000
DTSTAMP:20260419T203142
CREATED:20250814T144150Z
LAST-MODIFIED:20250819T155622Z
UID:228484-1756324800-1756324800@theriverboston.com
SUMMARY:The B-52's Kate Pierson @ Blue Ocean Music Hall
DESCRIPTION:View Tickets  \nThe B-52’s Kate Pierson\nDoors: 7 PM\nKate Pierson is a founding member of the B-52s\, the beloved dance-rock band who conquered the world with their groundbreaking approach to music and unmistakable fashion sense. For more than 40 years\, the B-52s have cut a singular path: bringing the world memorable\, you-can’t-help-but-dance-to-it hits like “Rock Lobster\,” “Love Shack” “Roam” and “ROCK LOBSTER” and performing for adoring fans around the globe. This year marks their 45th year anniversary marked by their first album release in 1979. Over the years\, the B52s have toured with many iconic acts such as Talking Heads\,Blondie\, the pretenders Ziggy Marley\, boy George\, KC\, kc and the sunshine band\, and the Go-Go to name a few. \nIn the summer and fall of 2022 the B 52s performed their “ farewell to planet earth” tour to sold out crowds – But they then started their iconic Las Vegas residencies at the Venetian theater – this November 2024 being their fourth run there. \nREAD MORE \n\nDiscover The Full Lineup at Blue Ocean Music Hall
URL:https://theriverboston.com/events/the-b-52s-kate-pierson-blue-ocean-music-hall/
LOCATION:Blue Ocean Music Hall\, 4 Ocean Front N\, Salisbury\, MA\, 01952\, United States
END:VEVENT
END:VCALENDAR