BEGIN:VCALENDAR
VERSION:2.0
PRODID:-//92.5 the River - ECPv5.16.3.1//NONSGML v1.0//EN
CALSCALE:GREGORIAN
METHOD:PUBLISH
X-WR-CALNAME:92.5 the River
X-ORIGINAL-URL:https://theriverboston.com
X-WR-CALDESC:Events for 92.5 the River
BEGIN:VTIMEZONE
TZID:America/New_York
BEGIN:DAYLIGHT
TZOFFSETFROM:-0500
TZOFFSETTO:-0400
TZNAME:EDT
DTSTART:20250309T070000
END:DAYLIGHT
BEGIN:STANDARD
TZOFFSETFROM:-0400
TZOFFSETTO:-0500
TZNAME:EST
DTSTART:20251102T060000
END:STANDARD
END:VTIMEZONE
BEGIN:VEVENT
DTSTART;TZID=America/New_York:20250828T190000
DTEND;TZID=America/New_York:20250828T190000
DTSTAMP:20260419T190216
CREATED:20250603T160447Z
LAST-MODIFIED:20250603T160447Z
UID:227579-1756407600-1756407600@theriverboston.com
SUMMARY:Neighbor @ Prescott Park Arts Festival
DESCRIPTION:  \n\nNeighbor | Wednesday\, August 28th \nShow: 7 pm \nCome jam with dynamic rock band Neighbor at the Prescott Park Arts Festival on August 28th! \nFormed by childhood friends (and neighbors) Richard James and Lyle Brewer\, Neighbor has grown a passionate following for their lengthy improvisational live shows and ambitious songwriting. No two performances are alike\, and the band’s mastery of americana\, funk\, jazz\, and soul is absolutely thrilling. \nSecure your OPTIONAL reserved seating below\, and come spend an evening in beautiful downtown Portsmouth! \nReserved seating here!
URL:https://theriverboston.com/events/neighbor/
LOCATION:Prescott Park\, 105 Marcy Street\, Portsmouth\, NH\, 03801\, United States
END:VEVENT
END:VCALENDAR