BEGIN:VCALENDAR
VERSION:2.0
PRODID:-//92.5 the River - ECPv5.16.3.1//NONSGML v1.0//EN
CALSCALE:GREGORIAN
METHOD:PUBLISH
X-WR-CALNAME:92.5 the River
X-ORIGINAL-URL:https://theriverboston.com
X-WR-CALDESC:Events for 92.5 the River
BEGIN:VTIMEZONE
TZID:America/New_York
BEGIN:DAYLIGHT
TZOFFSETFROM:-0500
TZOFFSETTO:-0400
TZNAME:EDT
DTSTART:20250309T070000
END:DAYLIGHT
BEGIN:STANDARD
TZOFFSETFROM:-0400
TZOFFSETTO:-0500
TZNAME:EST
DTSTART:20251102T060000
END:STANDARD
END:VTIMEZONE
BEGIN:VEVENT
DTSTART;TZID=America/New_York:20250829T193000
DTEND;TZID=America/New_York:20250829T193000
DTSTAMP:20260419T173026
CREATED:20250123T161147Z
LAST-MODIFIED:20250127T155142Z
UID:226061-1756495800-1756495800@theriverboston.com
SUMMARY:Nine Inch Nails @ TD Garden
DESCRIPTION:Nine Inch Nails | Friday August 29th \nDoors: 6:30pm | Show: 7:30pm \nNine Inch Nails is returning to Boston after their back-to-back Boston Calling headlines in 2022! This marks the band’s first live outing in three years! Grab your tickets to see their Peel It Back tour on August 29th! \nGrab your tickets today!
URL:https://theriverboston.com/events/nine-inch-nails-td/
LOCATION:TD Garden\, 100 Legends Way\, Boston\, MA\, 02114\, United States
END:VEVENT
BEGIN:VEVENT
DTSTART;TZID=America/New_York:20250829T193000
DTEND;TZID=America/New_York:20250829T193000
DTSTAMP:20260419T173026
CREATED:20250225T180546Z
LAST-MODIFIED:20250225T202020Z
UID:226477-1756495800-1756495800@theriverboston.com
SUMMARY:Indigo Girls & Melissa Etheridge @ BankNH Pavilion
DESCRIPTION:Indigo Girls & Melissa Etheridge | Friday\, August 29th \nDoors: 6pm | Show: 7:30pm \nMelissa Etheridge & Indigo Girls are bringing their iconic sound to New Hampshire! \nTwo legendary acts\, one unforgettable night! Catch Melissa Etheridge and Indigo Girls live at BankNH Pavilion on August 29th. Don’t miss this chance to experience their powerful performances and timeless hits in person! \nTickets are on sale February 28th —grab yours before they’re gone! \nGrab your tickets here!
URL:https://theriverboston.com/events/indigo-girls-melissa-etheridge-banknh-pavilion/
LOCATION:BankNH Pavilion\, 72 Meadowbrook Ln\, Gilford\, NH\, 03249\, United States
END:VEVENT
END:VCALENDAR