BEGIN:VCALENDAR
VERSION:2.0
PRODID:-//92.5 the River - ECPv5.16.3.1//NONSGML v1.0//EN
CALSCALE:GREGORIAN
METHOD:PUBLISH
X-WR-CALNAME:92.5 the River
X-ORIGINAL-URL:https://theriverboston.com
X-WR-CALDESC:Events for 92.5 the River
BEGIN:VTIMEZONE
TZID:America/New_York
BEGIN:DAYLIGHT
TZOFFSETFROM:-0500
TZOFFSETTO:-0400
TZNAME:EDT
DTSTART:20250309T070000
END:DAYLIGHT
BEGIN:STANDARD
TZOFFSETFROM:-0400
TZOFFSETTO:-0500
TZNAME:EST
DTSTART:20251102T060000
END:STANDARD
END:VTIMEZONE
BEGIN:VEVENT
DTSTART;TZID=America/New_York:20250830T193000
DTEND;TZID=America/New_York:20250830T193000
DTSTAMP:20260419T155411
CREATED:20250205T161807Z
LAST-MODIFIED:20250205T161807Z
UID:226249-1756582200-1756582200@theriverboston.com
SUMMARY:Bonnie Raitt @ BankNH Pavilion
DESCRIPTION:Bonnie Raitt | Saturday\, August 30th \nDoors: 6pm | Show: 7:30pm \n\n13-time Grammy winning singer\, songwriter and guitarist Bonnie Raitt is coming to New Hampshire! See the Rock & Roll Hall of Famer live at BankNH Pavilion this August alongside Jimmie Vaughan & The Tilt-A-Whirl Band on her JUST LIKE THAT… TOUR 2025!\n\nGrab your tickets here!
URL:https://theriverboston.com/events/bonnie-raitt-banknh-pavilion/
LOCATION:BankNH Pavilion\, 72 Meadowbrook Ln\, Gilford\, NH\, 03249\, United States
END:VEVENT
END:VCALENDAR