BEGIN:VCALENDAR
VERSION:2.0
PRODID:-//92.5 the River - ECPv5.16.3.1//NONSGML v1.0//EN
CALSCALE:GREGORIAN
METHOD:PUBLISH
X-WR-CALNAME:92.5 the River
X-ORIGINAL-URL:https://theriverboston.com
X-WR-CALDESC:Events for 92.5 the River
BEGIN:VTIMEZONE
TZID:America/New_York
BEGIN:DAYLIGHT
TZOFFSETFROM:-0500
TZOFFSETTO:-0400
TZNAME:EDT
DTSTART:20250309T070000
END:DAYLIGHT
BEGIN:STANDARD
TZOFFSETFROM:-0400
TZOFFSETTO:-0500
TZNAME:EST
DTSTART:20251102T060000
END:STANDARD
END:VTIMEZONE
BEGIN:VEVENT
DTSTART;TZID=America/New_York:20250831T170000
DTEND;TZID=America/New_York:20250901T170000
DTSTAMP:20260419T143406
CREATED:20250325T161538Z
LAST-MODIFIED:20250325T161538Z
UID:226826-1756659600-1756746000@theriverboston.com
SUMMARY:Leon Bridges @ Thompson's Point
DESCRIPTION:Leon Bridges | Sunday\, August 31st & Monday\, September 1st  \nThis summer\, Thompson’s Point will host an unforgettable musical experience as Leon Bridges takes the stage for two shows\, accompanied by the incredible Charley Crockett as a special guest! \nKnown for his soulful voice and captivating performances\, Leon Bridges will bring his signature blend of R&B and smooth melodies to the outdoor venue. Joining him\, Charley Crockett will add his unique blend of country blues to the mix\, making for an evening of diverse\, powerful music. \nDon’t miss this chance to see two incredible artists live in concert in Portland\, Maine at Thompson’s Point! \nGet your tickets here!
URL:https://theriverboston.com/events/leon-bridges-thompsons-point/
LOCATION:Thompson’s Point\, Thompsons Point Road\, Portland\, ME\, 04102\, United States
END:VEVENT
BEGIN:VEVENT
DTSTART;TZID=America/New_York:20250831T180000
DTEND;TZID=America/New_York:20250831T180000
DTSTAMP:20260419T143406
CREATED:20250325T155428Z
LAST-MODIFIED:20250325T155428Z
UID:226821-1756663200-1756663200@theriverboston.com
SUMMARY:Dawes @ Lake Morey
DESCRIPTION:Dawes | Sunday\, August 31st  \nDoors: 7 pm | Show: 8 pm \nDawes Live at Lake Morey – A Free Night of Music! \nJoin the Lake Morey Summer Concert Series for an evening of soul-stirring melodies and timeless rock as Dawes takes the stage! With their signature blend of folk\, rock\, and rich storytelling\, the band delivers a captivating live performance that resonates with fans old and new. \nGrab a spot\, bring some friends\, and experience Dawes live under the open summer sky!
URL:https://theriverboston.com/events/dawes-lake-morey/
LOCATION:Lake Morey Resort\, 82 Clubhouse Road\, Fairlee\, Vermont\, 05045\, United States
END:VEVENT
BEGIN:VEVENT
DTSTART;TZID=America/New_York:20250831T200000
DTEND;TZID=America/New_York:20250831T200000
DTSTAMP:20260419T143406
CREATED:20250827T185111Z
LAST-MODIFIED:20250827T185127Z
UID:228622-1756670400-1756670400@theriverboston.com
SUMMARY:Lettuce @ The Music Hall Portsmouth
DESCRIPTION:Buy Tickets Here \nLETTUCE\n(a) the prime ingredient in a salad\, (b) a slang for cash\, (c) a green herb that can be smoked\, (d) a genre-busting six-member musical collective formed in 1992 by four alumni of the prestigious Berklee College Of Music\, or (e) all of the above. If you answered “e\,” then you’re in on the sheer magic of a band that both feeds the rich history of funk music and combines it with strains of hip-hop\, rock\, psychedelia\, jazz\, soul\, jam\, go-go\, and the avant-garde. \nThe GRAMMY® Award-nominated six-piece is comprised of Adam Deitch [drums\, percussion]\, Adam “Shmeeans” Smirnoff [guitar]\, Erick “Jesus” Coomes [bass]\, Ryan Zoidis [alto\, baritone\, tenor sax\, Korg X-911]\, Eric “Benny” Bloom [trumpet\, horns]\, and Nigel Hall [vocals\, Hammond B-3\, Rhodes\, clavinet\, keyboards]. \n  \n  \n\nFind More Shows at MHP
URL:https://theriverboston.com/events/lettuce-the-music-hall-2025/
LOCATION:The Music Hall\, 28 Chestnut Street\, Portsmouth\, NH\, 03801\, United States
END:VEVENT
END:VCALENDAR