BEGIN:VCALENDAR
VERSION:2.0
PRODID:-//92.5 the River - ECPv5.16.3.1//NONSGML v1.0//EN
CALSCALE:GREGORIAN
METHOD:PUBLISH
X-WR-CALNAME:92.5 the River
X-ORIGINAL-URL:https://theriverboston.com
X-WR-CALDESC:Events for 92.5 the River
BEGIN:VTIMEZONE
TZID:America/New_York
BEGIN:DAYLIGHT
TZOFFSETFROM:-0500
TZOFFSETTO:-0400
TZNAME:EDT
DTSTART:20250309T070000
END:DAYLIGHT
BEGIN:STANDARD
TZOFFSETFROM:-0400
TZOFFSETTO:-0500
TZNAME:EST
DTSTART:20251102T060000
END:STANDARD
END:VTIMEZONE
BEGIN:VEVENT
DTSTART;VALUE=DATE:20250905
DTEND;VALUE=DATE:20250908
DTSTAMP:20260421T044723
CREATED:20250826T142855Z
LAST-MODIFIED:20250826T143032Z
UID:228594-1757030400-1757289599@theriverboston.com
SUMMARY:Hampton Beach Seafood Festival 2025
DESCRIPTION:The biggest party on the Beach returns for its 36th year! \nTWO stages of music\, and a full lineup of entertainment all weekend long. Folk\, rock\, swing\, something for everyone. More than 15 performances over the course of the weekend will provide the perfect soundtrack for your festival excursion. Get ready to Rock ‘n’ (Lobster) Roll! \nPlus a huge fireworks display Saturday night! \nFESTIVAL HOURS: \nFriday (9/5): 12pm – 9pm \nSaturday (9/6): 10am – 9pm \nSunday (9/7): 9am – 6pm \nMore info here!
URL:https://theriverboston.com/events/hampton-seafood-2025/
LOCATION:Ocean Blvd- Hampton Beach\, NH\, Ocean Blvd\, Hampton\, NH\, 03842\, United States
END:VEVENT
BEGIN:VEVENT
DTSTART;TZID=America/New_York:20250906T100000
DTEND;TZID=America/New_York:20250906T180000
DTSTAMP:20260421T044723
CREATED:20250610T163027Z
LAST-MODIFIED:20250610T163027Z
UID:227653-1757152800-1757181600@theriverboston.com
SUMMARY:Banjo & Fiddle Contest @ Lowell Summer Music Series
DESCRIPTION:Banjo & Fiddle Contest | Saturday\, September 6th \n10 AM – 6 PM \nCome watch Lowell’s 44th Annual Banjo & Fiddle Contest at Boarding House Park this September! This event is completely free for contestants\, as well as all spectators looking to take in the magic of traditional music. Never played an instrument? Join a workshop in bluegrass banjo\, old time fiddle\, or ethnic/bluegrass fiddle! Fancy yourself a banjo-playing expert? Informal jams will take place all day! \nThis is a truly unique and exciting event for the whole family\, and you won’t want to miss it! \nFind schedules and contest info here!
URL:https://theriverboston.com/events/banjo-fiddle/
LOCATION:Boarding House Park\, 40 French Street\, Lowell\, MA\, 01852\, United States
END:VEVENT
BEGIN:VEVENT
DTSTART;TZID=America/New_York:20250906T140000
DTEND;TZID=America/New_York:20250907T140000
DTSTAMP:20260421T044723
CREATED:20250318T153259Z
LAST-MODIFIED:20250318T153259Z
UID:226728-1757167200-1757253600@theriverboston.com
SUMMARY:Seisiun Irish Music Festival @ Stage at Suffolk Downs
DESCRIPTION:Seisiun | Saturday\, September 6th & Sunday\, September 7th \nDoors: 2 pm | Show: 2 pm \nThe Seisiun Irish Music Festival is coming to The Stage at Suffolk Downs this September! Featuring an incredible lineup of artists across multiple genres\, this is a must see show! Grab your tickets here when they go on sale! \nTickets go on sale on March 21st @ 10 AM! \nGet Tickets Here!
URL:https://theriverboston.com/events/seisiun-irish-music-festival-stage-at-suffolk-downs/
LOCATION:The Stage at Suffolk Downs\, 25 William F McClellan Hwy\, Boston\, MA\, 02128\, United States
END:VEVENT
BEGIN:VEVENT
DTSTART;TZID=America/New_York:20250906T190000
DTEND;TZID=America/New_York:20250906T190000
DTSTAMP:20260421T044723
CREATED:20250123T165404Z
LAST-MODIFIED:20250127T155114Z
UID:226063-1757185200-1757185200@theriverboston.com
SUMMARY:Tedeschi Trucks Band @ Xfinity Center
DESCRIPTION:Tedeschi Trucks Band | September 6th \nShow: 7pm \nTedschi Trucks Band is coming to Mass! Grab your tickets to see them on September 6th at Xfinity Center in Mansfield! \nGet your tickets here!
URL:https://theriverboston.com/events/tedeschi-trucks-xfinity-center/
LOCATION:Xfinity Center\, 885 S Main St\, Mansfield \, MA\, 02048\, United States
END:VEVENT
END:VCALENDAR