BEGIN:VCALENDAR
VERSION:2.0
PRODID:-//92.5 the River - ECPv5.16.3.1//NONSGML v1.0//EN
CALSCALE:GREGORIAN
METHOD:PUBLISH
X-WR-CALNAME:92.5 the River
X-ORIGINAL-URL:https://theriverboston.com
X-WR-CALDESC:Events for 92.5 the River
BEGIN:VTIMEZONE
TZID:America/New_York
BEGIN:DAYLIGHT
TZOFFSETFROM:-0500
TZOFFSETTO:-0400
TZNAME:EDT
DTSTART:20250309T070000
END:DAYLIGHT
BEGIN:STANDARD
TZOFFSETFROM:-0400
TZOFFSETTO:-0500
TZNAME:EST
DTSTART:20251102T060000
END:STANDARD
END:VTIMEZONE
BEGIN:VEVENT
DTSTART;TZID=America/New_York:20250918T170000
DTEND;TZID=America/New_York:20250918T190000
DTSTAMP:20260419T090523
CREATED:20250826T174238Z
LAST-MODIFIED:20250828T194018Z
UID:228605-1758214800-1758222000@theriverboston.com
SUMMARY:Kona Bar Night @ Longboards
DESCRIPTION:Kona Bar Night | Thursday\, September 18th \nLongboards in Salem\, MA | 5-7pm \nWant a chance to win tickets to see Ziggy Marley with Burning Spear at Leader Bank Pavilion on September 25? Stop by\, soak up the vibes and spin the River prize wheel for some awesome merch from the River and Kona Big Wave at Longboards at 76 Wharf Street in Salem\, Massachusetts. Can’t Wait to See You There!
URL:https://theriverboston.com/events/kona-bar-night-longboards/
LOCATION:Longboards\, 76 Wharf St\, Salem\, MA 01970\, Salem\, MA\, 01970\, United States
END:VEVENT
BEGIN:VEVENT
DTSTART;TZID=America/New_York:20250918T180000
DTEND;TZID=America/New_York:20250918T200000
DTSTAMP:20260419T090523
CREATED:20250903T183919Z
LAST-MODIFIED:20250904T194644Z
UID:228675-1758218400-1758225600@theriverboston.com
SUMMARY:Casks & Cocktails: A Taste of Ireland in Dover
DESCRIPTION:  \n\nOn Thursday\, September 18th\, 2025\, Ireland takes over a new location this year—the stunning Rivermill at Dover Landing—for an elevated evening of rare whiskey\, bespoke cocktails\, and warm Irish hospitality\, curated by the New Hampshire Liquor Commission (NHLC) and Bord Bia — The Irish Food Board. \nWhy you’ll love it \n\nUltra-rare pours you won’t see on U.S. shelves\nSignature cocktails created exclusively for this event\nChef-crafted hors d’oeuvres from Rivermill at Dover Landing\nStories\, tasting notes\, and the camaraderie that makes Irish gatherings legendary\nSneak peek: the coveted lineup (subject to change)\nThe Whistler 16 Year Palo Cortado • The Whistler Dark Symphony • Writers’ Tears Japanese Cask • Writers’ Tears Marsala Cask • The Irishman 17 Year Old • Teeling Wonders of Wood Single Pot Still • Waterford Cuvée Koffi Irish Whisky • Drumshanbo Galanta Single Malt • Fercullen 22 Year Old • Clonakilty Rum Cask • Hyde No. 8 Heritage Cask • JJ Corry “The Arena”…plus more than two dozen exclusive Irish spirits—each with a story worth savoring.\n\nPerfect for:\nWhiskey lovers\, cocktail explorers\, and anyone who wants a memorable\, elevated night out with premium pours and great company—now in a fresh venue for 2025. \nGood to know:\n Complimentary valet parking for all guests \n 21+ only; valid ID required \n Please sip responsibly and plan a safe ride \n Tickets are limited and expected to go fast—secure yours now \n  \nGet Your Tickets Here
URL:https://theriverboston.com/events/casks-cocktails-a-taste-of-ireland-in-dover/
LOCATION:Rivermill at Dover Landing\, 2 Washington Street\, Dover\, NH\, 03820\, United States
END:VEVENT
BEGIN:VEVENT
DTSTART;TZID=America/New_York:20250918T200000
DTEND;TZID=America/New_York:20250918T200000
DTSTAMP:20260419T090523
CREATED:20250401T150048Z
LAST-MODIFIED:20250401T150048Z
UID:226899-1758225600-1758225600@theriverboston.com
SUMMARY:Garbage @ Roadrunner
DESCRIPTION:Garbage | Thursday\, September 18th \nDoors: 7 pm | Show: 8 pm \nAlt-rock legends Garbage are coming to Boston this September!  Catch them live at Roadrunner for an unforgettable night of energy and iconic hits! Don’t miss your chance to see Shirley Manson and the band tear up the stage with their signature blend of grunge and rock. Tickets go on sale April 4th. \nGet your tickets here!
URL:https://theriverboston.com/events/garbage-roadrunner/
LOCATION:Roadrunner\, 89 Guest Street\, Boston\, MA\, 02135\, United States
END:VEVENT
BEGIN:VEVENT
DTSTART;TZID=America/New_York:20250918T200000
DTEND;TZID=America/New_York:20250918T200000
DTSTAMP:20260419T090523
CREATED:20250813T164305Z
LAST-MODIFIED:20250813T165133Z
UID:228473-1758225600-1758225600@theriverboston.com
SUMMARY:Shaun Cassidy @ Tupelo
DESCRIPTION:VIEW/BUY TICKETS\nShaun Cassidy: The Road To Us\nShaun Cassidy is an American writer\, producer\, actor and singer. After originally making his name as a performer\, Cassidy went on to create\, write\, and produce a number of critically acclaimed television series including AMERICAN GOTHIC (produced with Sam Raimi)\, ROAR (starring Heath Ledger)\, COLD CASE\, COVER ME\, THE AGENCY\, INVASION\, and EMERALD CITY. Cassidy most recently spent five years as executive producer and writer for the hit NBC/NETFLIX series NEW AMSTERDAM. \nThe son of Tony award winning actor Jack Cassidy and Academy award winner Shirley Jones (and half-brother of the late singer/actor David Cassidy)\, Shaun grew up in Los Angeles and New York City. While still in high school\, he signed a contract with Warner Brothers records. This led to three multi-platinum albums and numerous top ten hits including the number #1 DA DOO RON RON\, THAT’S ROCK N’ ROLL\, HEY DEANIE\, and DO YOU BELIEVE IN MAGIC. Cassidy received a Grammy nomination for his efforts and performed at every major arena in the country including Houston’s Astrodome and New York’s Madison Square Garden. Almost concurrently\, he starred in the ABC television series THE HARDY BOYS MYSTERIES. Later\, while appearing for over a year on Broadway in the hit musical BLOOD BROTHERS\, Shaun wrote his first television pilot\, AMERICAN GOTHIC. When the show debuted\, The New York Times called it “The most original new show of the season.” \nFrom 2020-2024\, Cassidy took his self-penned music and storytelling show\, THE MAGIC OF A MIDNIGHT SKY\, to the stage\, playing to SRO crowds nationwide and selling out five consecutive nights at New York’s Fifty-Four below. The critic from Broadway World noted: “We haven’t seen this man\, this entertainer\, in live concert for four decades\, and we want to. We never stopped wanting to. So\, we all went. And the voice is still there. The voice is still powerful\, still full of emotion\, texture\, color\, and technique. Not one moment of the “The Magic of a Midnight Sky” should be changed. This show is a dream. Shaun Cassidy\, welcome home. We missed you and are so happy to have you back.” \nShaun makes his home in the wine country of Santa Barbara with his wife\, Tracey\, their four children\, and more animals than he can count. In collaboration with No Kid Hungry\, their family produces a collection of fine wines\, MY FIRST CRUSH\, which donates money to feed hungry children nationwide. Shaun is excited to be launching his next live music and storytelling tour\, THE ROAD TO US\, in the fall of 2025. \n  \n\nFIND MORE SHOWS AT TUPELO MUSIC HALL
URL:https://theriverboston.com/events/shaun-cassidy-tupelo/
LOCATION:Tupelo Music Hall\, 10 A Street\, Derry\, NH\, 03038\, United States
END:VEVENT
END:VCALENDAR