BEGIN:VCALENDAR
VERSION:2.0
PRODID:-//92.5 the River - ECPv5.16.3.1//NONSGML v1.0//EN
CALSCALE:GREGORIAN
METHOD:PUBLISH
X-WR-CALNAME:92.5 the River
X-ORIGINAL-URL:https://theriverboston.com
X-WR-CALDESC:Events for 92.5 the River
BEGIN:VTIMEZONE
TZID:America/New_York
BEGIN:DAYLIGHT
TZOFFSETFROM:-0500
TZOFFSETTO:-0400
TZNAME:EDT
DTSTART:20250309T070000
END:DAYLIGHT
BEGIN:STANDARD
TZOFFSETFROM:-0400
TZOFFSETTO:-0500
TZNAME:EST
DTSTART:20251102T060000
END:STANDARD
END:VTIMEZONE
BEGIN:VEVENT
DTSTART;TZID=America/New_York:20250923T190000
DTEND;TZID=America/New_York:20250923T190000
DTSTAMP:20260419T094452
CREATED:20250908T141708Z
LAST-MODIFIED:20250915T150336Z
UID:228726-1758654000-1758654000@theriverboston.com
SUMMARY:Sharon Van Etten @ The Music Hall
DESCRIPTION:Buy Tickets Here \nSharon Van Etten & The Attachment Theory\nFrom the off\, Sharon Van Etten & The Attachment Theory is sonically different from Van Etten’s previous work. Writing and recording in total collaboration with her band for the first time\, Van Etten finds the freedom that comes by letting go. The result of that liberation is an exhilarating new dimension of sound and songwriting. The themes are timeless\, classic Sharon – life and living\, love and being loved – but the sounds are new\, wholly realized and sharp as glass. \n  \n  \n\nFind More Shows at MHP
URL:https://theriverboston.com/events/sharon-van-etten-the-music-hall/
LOCATION:The Music Hall\, 28 Chestnut Street\, Portsmouth\, NH\, 03801\, United States
END:VEVENT
END:VCALENDAR