BEGIN:VCALENDAR
VERSION:2.0
PRODID:-//92.5 the River - ECPv5.16.3.1//NONSGML v1.0//EN
CALSCALE:GREGORIAN
METHOD:PUBLISH
X-WR-CALNAME:92.5 the River
X-ORIGINAL-URL:https://theriverboston.com
X-WR-CALDESC:Events for 92.5 the River
BEGIN:VTIMEZONE
TZID:America/New_York
BEGIN:DAYLIGHT
TZOFFSETFROM:-0500
TZOFFSETTO:-0400
TZNAME:EDT
DTSTART:20250309T070000
END:DAYLIGHT
BEGIN:STANDARD
TZOFFSETFROM:-0400
TZOFFSETTO:-0500
TZNAME:EST
DTSTART:20251102T060000
END:STANDARD
END:VTIMEZONE
BEGIN:VEVENT
DTSTART;TZID=America/New_York:20250925T080000
DTEND;TZID=America/New_York:20250928T170000
DTSTAMP:20260419T081945
CREATED:20250923T151830Z
LAST-MODIFIED:20250923T152029Z
UID:228948-1758787200-1759078800@theriverboston.com
SUMMARY:The 148th Annual Deerfield Fair
DESCRIPTION:Deerfield Fair | September 25th-28th 2026 \nThe Deerfield Fair is New England’s oldest family fair\, bringing generations together with classic rides\, delicious fair food\, live entertainment\, agricultural exhibits\, and fun for all ages. From prize-winning animals to thrilling shows and autumn traditions\, the Deerfield Fair is a must to kick off fall in New Hampshire. \nDon’t miss your chance to make memories with the whole family! \nGet Your Tickets
URL:https://theriverboston.com/events/the-148th-deerfield-fair/
LOCATION:Deerfield Fair\, 34 Stage Rd\, Deerfield\, NH\, 03037\, United States
END:VEVENT
BEGIN:VEVENT
DTSTART;VALUE=DATE:20250926
DTEND;VALUE=DATE:20250929
DTSTAMP:20260419T081945
CREATED:20250917T140158Z
LAST-MODIFIED:20250917T140324Z
UID:228812-1758844800-1759103999@theriverboston.com
SUMMARY:Oktoberfest at The Anheuser-Busch Brewery in Merrimack
DESCRIPTION:Oktoberfest | Friday\, September 26th – Sunday\, September 28th \nSchedule: \n\nFriday 9/26 | 6-10PM (21+ only)\nSaturday 9/27 | 11-10PM (Minors allowed until 4PM – Then it will become 21+ ONLY from 4-10PM)\nSunday 9/28 | 11-5PM (Minors allowed all day)\n\nCelebrate Bavarian culture with a weekend of German food\, festive games\, live music\, and plenty of beer at Anheuser-Busch’s annual Oktoberfest! Enjoy stein-hoisting competitions\, barrel races\, the famous Dachshund Dash\, and performances from traditional bands all weekend long. Fun for families during the day and 21+ festivities in the evenings – lederhosen encouraged. Prost! 🍻 \nLive Music Performances: \n\nFriday 9/26 | E.F.O. (The Eddie Forman Orchestra)\nSaturday 9/27 | Grüvmeiners\, The Hofbrau HotshotsKier\, Byrnes & The Kettle Burners\nSunday 9/28 | TubaFrau Hofbrau Band\, Oberlaendler Hofbrau Band\n\nGet Tickets and More Info Here!
URL:https://theriverboston.com/events/oktoberfest-anheuser-busch/
LOCATION:Anheuser-Busch Brewery\, 221 Daniel Webster Highway\, Merrimack\, NH\, 03054\, United States
END:VEVENT
END:VCALENDAR