BEGIN:VCALENDAR
VERSION:2.0
PRODID:-//92.5 the River - ECPv5.16.3.1//NONSGML v1.0//EN
CALSCALE:GREGORIAN
METHOD:PUBLISH
X-WR-CALNAME:92.5 the River
X-ORIGINAL-URL:https://theriverboston.com
X-WR-CALDESC:Events for 92.5 the River
BEGIN:VTIMEZONE
TZID:America/New_York
BEGIN:DAYLIGHT
TZOFFSETFROM:-0500
TZOFFSETTO:-0400
TZNAME:EDT
DTSTART:20250309T070000
END:DAYLIGHT
BEGIN:STANDARD
TZOFFSETFROM:-0400
TZOFFSETTO:-0500
TZNAME:EST
DTSTART:20251102T060000
END:STANDARD
END:VTIMEZONE
BEGIN:VEVENT
DTSTART;TZID=America/New_York:20251001T200000
DTEND;TZID=America/New_York:20251001T200000
DTSTAMP:20260419T111835
CREATED:20250616T152929Z
LAST-MODIFIED:20250616T152929Z
UID:227759-1759348800-1759348800@theriverboston.com
SUMMARY:The 502s @ House of Blues!
DESCRIPTION:The 502s | Wednesday\, October 1st \nDoors: 7 pm | Show: 8 pm \nBringing the Summer heat to windy Boston\, The 502s will be at Citizens House of Blues this October! Often called “the happiest band on Earth\,” this Florida band has drawn widespread popularity for their banjo-heavy folk singalongs\, fusing clever sing-alongs with strings\, xylophone\, and a celebratory\, party-first attitude. Put on your flip-flops\, grab your inflatable flamingo floatie\, and join The 502s as they dive headfirst into their very own musical swimming pool! \nSecure your tickets here!
URL:https://theriverboston.com/events/502s-hob/
LOCATION:Citizens House Of Blues\, 15 Lansdowne Street\, Boston\, MA\, 02215\, United States
END:VEVENT
END:VCALENDAR