BEGIN:VCALENDAR
VERSION:2.0
PRODID:-//92.5 the River - ECPv5.16.3.1//NONSGML v1.0//EN
CALSCALE:GREGORIAN
METHOD:PUBLISH
X-WR-CALNAME:92.5 the River
X-ORIGINAL-URL:https://theriverboston.com
X-WR-CALDESC:Events for 92.5 the River
BEGIN:VTIMEZONE
TZID:America/New_York
BEGIN:DAYLIGHT
TZOFFSETFROM:-0500
TZOFFSETTO:-0400
TZNAME:EDT
DTSTART:20250309T070000
END:DAYLIGHT
BEGIN:STANDARD
TZOFFSETFROM:-0400
TZOFFSETTO:-0500
TZNAME:EST
DTSTART:20251102T060000
END:STANDARD
END:VTIMEZONE
BEGIN:VEVENT
DTSTART;TZID=America/New_York:20251010T200000
DTEND;TZID=America/New_York:20251010T200000
DTSTAMP:20260419T153620
CREATED:20250616T151143Z
LAST-MODIFIED:20250616T151143Z
UID:227755-1760126400-1760126400@theriverboston.com
SUMMARY:Royel Otis @ MGM Music Hall
DESCRIPTION:Royel Otis | Friday\, October 10th \nDoors: 7 pm | Show: 8 pm \nBlasting out of Sydney\, Australia with a joyous blend of guitar pop\, new wave\, and post-punk\, Royel Otis is bringing their meet me in the car tour coming to MGM Music Hall at Fenway this October! The duo\, known for their energetic live performances\, tongue-in-cheek humor\, and hits like “Moody” and “Sofa King\,” will be joined by scrappy indie-rockers bby for an unforgettable night filled with unforgettable music. \nGet tickets here!
URL:https://theriverboston.com/events/royel-otis-mgm/
LOCATION:MGM Music Hall at Fenway\, 2 Lansdowne Street\, Boston\, MA\, 02215\, United States
END:VEVENT
END:VCALENDAR