BEGIN:VCALENDAR
VERSION:2.0
PRODID:-//92.5 the River - ECPv5.16.3.1//NONSGML v1.0//EN
CALSCALE:GREGORIAN
METHOD:PUBLISH
X-WR-CALNAME:92.5 the River
X-ORIGINAL-URL:https://theriverboston.com
X-WR-CALDESC:Events for 92.5 the River
BEGIN:VTIMEZONE
TZID:America/New_York
BEGIN:DAYLIGHT
TZOFFSETFROM:-0500
TZOFFSETTO:-0400
TZNAME:EDT
DTSTART:20250309T070000
END:DAYLIGHT
BEGIN:STANDARD
TZOFFSETFROM:-0400
TZOFFSETTO:-0500
TZNAME:EST
DTSTART:20251102T060000
END:STANDARD
END:VTIMEZONE
BEGIN:VEVENT
DTSTART;TZID=America/New_York:20251014T193000
DTEND;TZID=America/New_York:20251014T193000
DTSTAMP:20260419T212624
CREATED:20250616T211902Z
LAST-MODIFIED:20250616T211921Z
UID:227770-1760470200-1760470200@theriverboston.com
SUMMARY:Gipsy Kings w/ Nicholas Reyes - Emerson Colonial
DESCRIPTION:Gipsy Kings Featuring Nicolas Reyes\nBuy Tickets Friday June 20 at 10am \nNicolas Reyes has been the leader and co-founder of the Gipsy Kings for well over 30 years. In the past three decades\, they have dominated the World Music charts and sold more than 14 million albums worldwide. Their platinum compilation\, The Best of the Gipsy Kings\, was charting for over a year upon its release and their ninth studio album\, Savor Flamenco\, was awarded the Grammy for Best\nWorld Music Album in 2013. \n30 years is an eternity in pop music but the story of the Gipsy Kings featuring Nicolas Reyes has the depth to endure. Theirs is a music that extends through generations\, to the sounds of their ancestors—Spanish Romani people who fled the Catalonia region during the Spanish Civil War—and reflects the vibrantly eclectic and peripatetic history of the gitanos.
URL:https://theriverboston.com/events/gipsy-kings-nicholas-reyes-colonial/
LOCATION:Emerson Colonial Theatre\, 106 Boylston Street\, Boston\, MA\, 02116\, United States
END:VEVENT
END:VCALENDAR