BEGIN:VCALENDAR
VERSION:2.0
PRODID:-//92.5 the River - ECPv5.16.3.1//NONSGML v1.0//EN
CALSCALE:GREGORIAN
METHOD:PUBLISH
X-WR-CALNAME:92.5 the River
X-ORIGINAL-URL:https://theriverboston.com
X-WR-CALDESC:Events for 92.5 the River
BEGIN:VTIMEZONE
TZID:America/New_York
BEGIN:DAYLIGHT
TZOFFSETFROM:-0500
TZOFFSETTO:-0400
TZNAME:EDT
DTSTART:20250309T070000
END:DAYLIGHT
BEGIN:STANDARD
TZOFFSETFROM:-0400
TZOFFSETTO:-0500
TZNAME:EST
DTSTART:20251102T060000
END:STANDARD
END:VTIMEZONE
BEGIN:VEVENT
DTSTART;TZID=America/New_York:20251017T200000
DTEND;TZID=America/New_York:20251017T200000
DTSTAMP:20260420T015613
CREATED:20250527T175509Z
LAST-MODIFIED:20250527T204633Z
UID:227479-1760731200-1760731200@theriverboston.com
SUMMARY:The Psychedelic Furs @ MGM Music Hall at Fenway
DESCRIPTION:The Psychedelic Furs | Friday\, October 17th \nDoors: 7 pm | Show: 8 pm \nThe Psychedelic Furs are coming to MGM Music Hall at Fenway this October! Join the legendary new wavers for a night of classic hits like “Love My Way” and “Pretty in Pink\,” all performed with the youthful energy and grandiose sound that catapulted the band to superstardom during the 1980’s. \nJoining The Furs is fellow synth-pop pioneer Gary Numan! Don’t miss your chance to experience an iconic night full of iconic music! \nGet tickets here!
URL:https://theriverboston.com/events/psychedelic-furs-mgm/
LOCATION:MGM Music Hall at Fenway\, 2 Lansdowne Street\, Boston\, MA\, 02215\, United States
END:VEVENT
END:VCALENDAR