BEGIN:VCALENDAR
VERSION:2.0
PRODID:-//92.5 the River - ECPv5.16.3.1//NONSGML v1.0//EN
CALSCALE:GREGORIAN
METHOD:PUBLISH
X-WR-CALNAME:92.5 the River
X-ORIGINAL-URL:https://theriverboston.com
X-WR-CALDESC:Events for 92.5 the River
BEGIN:VTIMEZONE
TZID:America/New_York
BEGIN:DAYLIGHT
TZOFFSETFROM:-0500
TZOFFSETTO:-0400
TZNAME:EDT
DTSTART:20250309T070000
END:DAYLIGHT
BEGIN:STANDARD
TZOFFSETFROM:-0400
TZOFFSETTO:-0500
TZNAME:EST
DTSTART:20251102T060000
END:STANDARD
END:VTIMEZONE
BEGIN:VEVENT
DTSTART;TZID=America/New_York:20251027T193000
DTEND;TZID=America/New_York:20251027T193000
DTSTAMP:20260419T225708
CREATED:20250529T174418Z
LAST-MODIFIED:20250529T174418Z
UID:227548-1761593400-1761593400@theriverboston.com
SUMMARY:Laufey @ TD Garden
DESCRIPTION:Laufey | Monday\, October 27th \nShow: 7:30 pm \nLaufey with her opener Suki Waterhouse is concluding her A Matter of Time tour at TD Garden this October.  The Grammy Award-winning singer broke onto the scene in a genre all her own that fuses jazz and pop.  In talking about her newest album of the same name as the tour\, Laufey is quoted saying\, “I wanted to reveal an angrier side of myself—a side that [an] unfortunate relationship brought out in me.”  Don’t miss her last tour date at TD Garden this fall! \nGet tickets here!
URL:https://theriverboston.com/events/laufey-td/
LOCATION:TD Garden\, 100 Legends Way\, Boston\, MA\, 02114\, United States
END:VEVENT
END:VCALENDAR