BEGIN:VCALENDAR
VERSION:2.0
PRODID:-//92.5 the River - ECPv5.16.3.1//NONSGML v1.0//EN
CALSCALE:GREGORIAN
METHOD:PUBLISH
X-WR-CALNAME:92.5 the River
X-ORIGINAL-URL:https://theriverboston.com
X-WR-CALDESC:Events for 92.5 the River
BEGIN:VTIMEZONE
TZID:America/New_York
BEGIN:DAYLIGHT
TZOFFSETFROM:-0500
TZOFFSETTO:-0400
TZNAME:EDT
DTSTART:20250309T070000
END:DAYLIGHT
BEGIN:STANDARD
TZOFFSETFROM:-0400
TZOFFSETTO:-0500
TZNAME:EST
DTSTART:20251102T060000
END:STANDARD
END:VTIMEZONE
BEGIN:VEVENT
DTSTART;TZID=America/New_York:20251031T170000
DTEND;TZID=America/New_York:20251031T200000
DTSTAMP:20260419T170142
CREATED:20251021T201924Z
LAST-MODIFIED:20251022T131121Z
UID:229300-1761930000-1761940800@theriverboston.com
SUMMARY:92.5 the River's Halloween Spooktacular Broadcast!
DESCRIPTION:Let’s get this party startled!\nFriday October 31st — Our resident expert on all things horror\, DJ Crozby serves up a spine-tingling evening of haunted hits! Tune in from 5-8PM for songs that are silly\, scary\, and just plain strange! It will be a devilishly good time full of hair-raising surprises! 😈🐈‍⬛ Whether you’re getting ready for a ghoulish night out or staying at home to hand out candy\, set your dial to 92.5 the River and enjoy the ultimate Halloween soundtrack! \nThe Halloween Spooktacular is presented in partnership with Harborwalk Garden\, Salem’s only outdoor beer and wine garden; Downeast Cider – Unfiltered Craft Cider; Jack’s Abby – Craft Lagers and Liquid Death – Murder Your Thirst. \nNo radio? No problem! You can take the River anywhere! Discover different ways to listen. \n 
URL:https://theriverboston.com/events/spooktacular-2025/
END:VEVENT
END:VCALENDAR