BEGIN:VCALENDAR
VERSION:2.0
PRODID:-//92.5 the River - ECPv5.16.3.1//NONSGML v1.0//EN
CALSCALE:GREGORIAN
METHOD:PUBLISH
X-WR-CALNAME:92.5 the River
X-ORIGINAL-URL:https://theriverboston.com
X-WR-CALDESC:Events for 92.5 the River
BEGIN:VTIMEZONE
TZID:America/New_York
BEGIN:DAYLIGHT
TZOFFSETFROM:-0500
TZOFFSETTO:-0400
TZNAME:EDT
DTSTART:20250309T070000
END:DAYLIGHT
BEGIN:STANDARD
TZOFFSETFROM:-0400
TZOFFSETTO:-0500
TZNAME:EST
DTSTART:20251102T060000
END:STANDARD
END:VTIMEZONE
BEGIN:VEVENT
DTSTART;TZID=America/New_York:20251102T190000
DTEND;TZID=America/New_York:20251102T190000
DTSTAMP:20260419T141531
CREATED:20251006T153819Z
LAST-MODIFIED:20251006T154730Z
UID:229116-1762110000-1762110000@theriverboston.com
SUMMARY:Closing Night of Hamilton in Boston
DESCRIPTION:VIEW TICKETS \nDuration: 2hrs\, 45mins with 1 intermission.\nRecommended for ages 10 and up. Please note: there is some strong language.\nThe Story\nA revolutionary story of passion\, unstoppable ambition\, and the dawn of a new nation. Hamilton is the epic saga that follows the rise of Founding Father Alexander Hamilton as he fights for honor\, love\, and a legacy that would shape the course of a nation. Based on Ron Chernow’s acclaimed biography and set to a score that blends hip-hop\, jazz\, R&B\, and Broadway\, Hamilton has had a profound impact on culture\, politics\, and education. Hamilton features book\, music\, and lyrics by Lin-Manuel Miranda\, direction by Thomas Kail\, choreography by Andy Blankenbuehler\, and musical supervision and orchestrations by Alex Lacamoire. In addition to its 11 Tony Awards\, it has won Grammy®\, Olivier Awards\, the Pulitzer Prize for Drama\, and an unprecedented special citation from the Kennedy Center Honors. \n\nPERFORMANCE DATES:\n\nTues Oct 7 – 7 PM\nWed Oct 8 – 7 PM\nThurs Oct 9 – 7:30 PM\nFri Oct 10 – 8 PM\nSat Oct 11 – 2 PM & 8 PM\nSun Oct 12 – 1 PM & 7 PM\nTues Oct 14 – 7 PM\nWed Oct 15 – 7 PM\nThurs Oct 15 – 7:30 PM\nFri Oct 17 – 8 PM\nSat Oct 18 – 2 PM & 8 PM\nSun Oct 19 – 1 PM & 7 PM\nTues Oct 21 – 7 PM\nWed Oct 22 – 7 PM\nThurs Oct 23 – 7:30 PM\nFri Oct 24 – 8 PM\nSat Oct 25 – 2 PM & 8 PM\nSun Oct 26 – 1 PM & 7 PM\nTues Oct 28 – 7 PM\nWed Oct 29 – 1 PM & 7 PM\nThurs Oct 30 – 7:30 PM\nSat Nov 1 – 2 PM & 8 PM\nSun Noc 2 – 1 PM & 7 PM\n\n 
URL:https://theriverboston.com/events/closing-night-hamilton-boston/
LOCATION:Boston Opera House\, 539 Washington Street\, Boston\, MA\, 02111\, United States
END:VEVENT
END:VCALENDAR