BEGIN:VCALENDAR
VERSION:2.0
PRODID:-//92.5 the River - ECPv5.16.3.1//NONSGML v1.0//EN
CALSCALE:GREGORIAN
METHOD:PUBLISH
X-WR-CALNAME:92.5 the River
X-ORIGINAL-URL:https://theriverboston.com
X-WR-CALDESC:Events for 92.5 the River
BEGIN:VTIMEZONE
TZID:America/New_York
BEGIN:DAYLIGHT
TZOFFSETFROM:-0500
TZOFFSETTO:-0400
TZNAME:EDT
DTSTART:20250309T070000
END:DAYLIGHT
BEGIN:STANDARD
TZOFFSETFROM:-0400
TZOFFSETTO:-0500
TZNAME:EST
DTSTART:20251102T060000
END:STANDARD
END:VTIMEZONE
BEGIN:VEVENT
DTSTART;TZID=America/New_York:20251113T193000
DTEND;TZID=America/New_York:20251113T213000
DTSTAMP:20260419T154952
CREATED:20251106T152644Z
LAST-MODIFIED:20251106T152644Z
UID:229467-1763062200-1763069400@theriverboston.com
SUMMARY:Danielia Cotton @ The Cut
DESCRIPTION:Danielia Cotton  |  The Cut \nDoors: 6:30pm  |  Show 7:30pm \nAmericana/Soul/Rock artist Danielia Cotton started performing in her teens\, crafting her own sound; an eclectic mix of the stuff that shaped her and the stuff that called her. Cotton’s magic is born of her ability to inhabit a song\, to dwell in its rhythms and melodies\, to live with the intricacies of its lyrical structure\, and to emerge with an articulate proclamation of personal and social truths. Catch this up-and-coming artist in an intimate setting\, one night only at The Cut! \n\nGet Tickets Here
URL:https://theriverboston.com/events/danielia-cotton-the-cut/
LOCATION:The Cut Live\, 177 Main St\, Gloucester\, MA\, 01930\, United States
END:VEVENT
END:VCALENDAR