BEGIN:VCALENDAR
VERSION:2.0
PRODID:-//92.5 the River - ECPv5.16.3.1//NONSGML v1.0//EN
CALSCALE:GREGORIAN
METHOD:PUBLISH
X-WR-CALNAME:92.5 the River
X-ORIGINAL-URL:https://theriverboston.com
X-WR-CALDESC:Events for 92.5 the River
BEGIN:VTIMEZONE
TZID:America/New_York
BEGIN:DAYLIGHT
TZOFFSETFROM:-0500
TZOFFSETTO:-0400
TZNAME:EDT
DTSTART:20250309T070000
END:DAYLIGHT
BEGIN:STANDARD
TZOFFSETFROM:-0400
TZOFFSETTO:-0500
TZNAME:EST
DTSTART:20251102T060000
END:STANDARD
END:VTIMEZONE
BEGIN:VEVENT
DTSTART;TZID=America/New_York:20251115T120000
DTEND;TZID=America/New_York:20251115T170000
DTSTAMP:20260419T190215
CREATED:20251030T141351Z
LAST-MODIFIED:20251030T141854Z
UID:229413-1763208000-1763226000@theriverboston.com
SUMMARY:Budweiser Brewery Food Truck Festival
DESCRIPTION:Budweiser Brewery Food Truck Festival | Budweiser Brewery \nEvent time: 12:00pm-5:00pm \n*early entry VIP hour starts 11 am \nThe Food Truck Festival is rollin’ back into town for the 2nd Budweiser Brewery Food Truck & Craft Beer Festival! Get ready for another epic day filled with flavor\, fun\, and frosty brews — right at the iconic Budweiser Brewery Experience in Merrimack\, NH!\nFood trucks will include: southern-style BBQ\, savory Italian street eats\, stacked sliders and smash burgers\, bold and spicy Indian favorites\, whoopie pies\, cannolis & sweet treats galore\, tacos\, burritos\, and more Mexican favorites. \nOf course\, it wouldn’t be a festival without the brews — so grab a pint (or two) of Anheuser-Busch’s finest seasonal selections and toast to another great day in Merrimack. \nBuy Tickets Here!
URL:https://theriverboston.com/events/budweiser-brewery-food-truck-festival/
LOCATION:221 Daniel Webster Hwy Merrimack\, NH 03054\, 221 Daniel Webster Hwy\, Merrimack\, NH\, 03054\, United States
END:VEVENT
BEGIN:VEVENT
DTSTART;TZID=America/New_York:20251115T140000
DTEND;TZID=America/New_York:20251115T170000
DTSTAMP:20260419T190215
CREATED:20251113T173350Z
LAST-MODIFIED:20251114T223413Z
UID:229548-1763215200-1763226000@theriverboston.com
SUMMARY:Lighthouse Wine & Spirits 3rd Annual Great Holiday Beer\, Liquor & Wine Tasting!
DESCRIPTION:Lighthouse Wine & Spirits 3nd Annual Great Holiday Beer\, Liquor & Wine Tasting!\nDoors: 1 PM | Age: 21+\nCome join the River Roadies and the crew at Lighthouse Wine & Spirits\, the third annual Great Holiday Wine and Spirts Tasting! Try some interesting wines\, fun cocktails\, fresh craft beer\, and enjoy some delicious cider donuts\, cheese & charcuterie\, yummy chocolate & designer cupcakes. There will be lots of raffles and giveaways\, and of course\, a fresh playlist of River tunes! We’ll be giving away a chance to win tickets to see The Strumbella’s at The Wilbur! See you there! CHEERS! \n\nMore Information Here!
URL:https://theriverboston.com/events/lighthouse-wine-spirits-3nd-annual-great-beer-liquor-wine-tasting/
LOCATION:Lighthouse Wine & Spirits\, 144-9 Brimbal Avenue\, Beverly\, MA\, 01915\, United States
END:VEVENT
END:VCALENDAR