BEGIN:VCALENDAR
VERSION:2.0
PRODID:-//92.5 the River - ECPv5.16.3.1//NONSGML v1.0//EN
CALSCALE:GREGORIAN
METHOD:PUBLISH
X-WR-CALNAME:92.5 the River
X-ORIGINAL-URL:https://theriverboston.com
X-WR-CALDESC:Events for 92.5 the River
BEGIN:VTIMEZONE
TZID:America/New_York
BEGIN:DAYLIGHT
TZOFFSETFROM:-0500
TZOFFSETTO:-0400
TZNAME:EDT
DTSTART:20250309T070000
END:DAYLIGHT
BEGIN:STANDARD
TZOFFSETFROM:-0400
TZOFFSETTO:-0500
TZNAME:EST
DTSTART:20251102T060000
END:STANDARD
END:VTIMEZONE
BEGIN:VEVENT
DTSTART;TZID=America/New_York:20251121T180000
DTEND;TZID=America/New_York:20251122T180000
DTSTAMP:20260420T085030
CREATED:20250811T181336Z
LAST-MODIFIED:20250811T181336Z
UID:228438-1763748000-1763834400@theriverboston.com
SUMMARY:Letters To Cleo @ Paradise Rock Club
DESCRIPTION:Letters To Cleo | Friday\, November 21 & Saturday\, November 22 \nShow: 6 pm \nBoston alt-rock icons Letters to Cleo are playing TWO SHOWS at Paradise Rock Club this November! \nKnown for their chart-topping 1993 debut album Aurora Gory Alice (which featured hit single “Here & Now”)\, Letters to Cleo’s initial run was short-lived\, but the band’s pop cultural influence can be seen in everything from 10 Things I Hate About You to Parks and Recreation. Following a successful reunion in 2016\, Kay Henley and co. are better than ever\, and their homecoming residency is sure to be an unforgettable event! 18+ ONLY. \nGet tickets here!
URL:https://theriverboston.com/events/letters-to-cleo-paradise/
LOCATION:Paradise Rock Club\, 967 Commonwealth Ave\, Boston\, MA\, 02215\, United States
END:VEVENT
BEGIN:VEVENT
DTSTART;TZID=America/New_York:20251122T110000
DTEND;TZID=America/New_York:20251122T200000
DTSTAMP:20260420T085030
CREATED:20251119T182056Z
LAST-MODIFIED:20251119T182323Z
UID:229591-1763809200-1763841600@theriverboston.com
SUMMARY:Opening Saturday of The Sea Festival of Trees
DESCRIPTION:A HOLIDAY WONDERLAND BY THE SEA\nExperience the joy and excitement of the Seacoast’s most popular holiday tradition as you stroll through a forest of 140 glittering trees. Skate seaside on the indoor rink\, and visit Santa’s Workshop & Toy Testing Station. \n🎄 FESTIVAL HOURS\n\nFriday\, November 21 – Opening Night Gala (Ticketed Event)\nSaturday\, November 22 – 11AM–8PM\nSunday\, November 23 – 11AM–5PM | Dance Day\nTuesday\, November 25 – 5PM–8PM | Triton Night\nFriday\, November 28 – 11AM–8PM\nSaturday\, November 29 – 11AM–8PM\nSunday\, November 30 – 11AM–5PM | Elf Day\nWednesday\, December 3 – 5PM–8PM | Sippin’ Santa Girls Night Out (18+ Event)\nThursday\, December 4 – 5PM–8PM | SantaCon vs. Ugly Sweater\nFriday\, December 5 – 5PM–8PM | Bruins Night\nSaturday\, December 6 – 11AM–8PM\nSunday\, December 7 – 11AM–5PM\n\nHours subject to change.
URL:https://theriverboston.com/events/sea-festival-of-trees-2025/
LOCATION:Blue Ocean Event Center\, 4 Oceanfront North\, Salisbury\, MA\, United States
ORGANIZER;CN="Atlantic%20Hospitality%20Group":MAILTO:info@atlantichg.com
END:VEVENT
END:VCALENDAR