BEGIN:VCALENDAR
VERSION:2.0
PRODID:-//92.5 the River - ECPv5.16.3.1//NONSGML v1.0//EN
CALSCALE:GREGORIAN
METHOD:PUBLISH
X-WR-CALNAME:92.5 the River
X-ORIGINAL-URL:https://theriverboston.com
X-WR-CALDESC:Events for 92.5 the River
BEGIN:VTIMEZONE
TZID:America/New_York
BEGIN:DAYLIGHT
TZOFFSETFROM:-0500
TZOFFSETTO:-0400
TZNAME:EDT
DTSTART:20250309T070000
END:DAYLIGHT
BEGIN:STANDARD
TZOFFSETFROM:-0400
TZOFFSETTO:-0500
TZNAME:EST
DTSTART:20251102T060000
END:STANDARD
END:VTIMEZONE
BEGIN:VEVENT
DTSTART;TZID=America/New_York:20251129T200000
DTEND;TZID=America/New_York:20251129T200000
DTSTAMP:20260420T233630
CREATED:20250623T173019Z
LAST-MODIFIED:20250623T173344Z
UID:227892-1764446400-1764446400@theriverboston.com
SUMMARY:Portugal. The Man @ Roadrunner!
DESCRIPTION:Portugal. The Man | Saturday\, November 29th \nDoors: 7:00pm | Show: 8:00pm \nBorn in Alaska and based out of Portland\, Oregon\, Portugal. The Man has gained a reputation as one of rock’s most consistent live groups! Though they started as a cult-favorite indie band\, 2017’s Woodstock\, featuring 7x Platinum-selling smash “Feel It Still\,” catapulted the group to new musical heights\, heights they’ll scale (both literally and figuratively) on their Denali Tour! \nDon’t miss your chance to see Portugal. The Man at Roadrunner! \nTickets here!
URL:https://theriverboston.com/events/portugal-roadrunner/
LOCATION:Roadrunner\, 89 Guest Street\, Boston\, MA\, 02135\, United States
END:VEVENT
BEGIN:VEVENT
DTSTART;TZID=America/New_York:20251129T200000
DTEND;TZID=America/New_York:20251129T230000
DTSTAMP:20260420T233630
CREATED:20251020T164926Z
LAST-MODIFIED:20251020T165048Z
UID:229278-1764446400-1764457200@theriverboston.com
SUMMARY:Dijon @ Citizens House of Blues
DESCRIPTION:Dijon | Saturday\, November 29th \nDoors: 7:00pm | 8:00pm \nDijon is heading to Boston following the release of his critically acclaimed sophomore album\, Baby. Praised by both critics and fellow musicians\, Baby showcases Dijon’s signature blend of alternative R&B\, neo-soul\, and Americana. Dijon contributed to Bon Iver’s album SABLE\, fABLE\, and played a large role in Justin Bieber’s SWAG\, co-creating the standout hits\, “DAISIES” and “DEVOTION.” \nDescribed as “Examining new fatherhood and how rapidly his life has changed since Absolutely\, the album is a collection of songs that represent the mania of domesticity. From song-to-song\, Dijon captures the moments of ecstasy and tragedy that inevitably follow life-altering changes.” \nSee what The New York Times called “A once-in-a-generation artist.” \n  \nBuy Tickets Here!  \n  \n 
URL:https://theriverboston.com/events/dijon-citizens-house-of-blues/
LOCATION:Citizens House Of Blues\, 15 Lansdowne Street\, Boston\, MA\, 02215\, United States
END:VEVENT
END:VCALENDAR