BEGIN:VCALENDAR
VERSION:2.0
PRODID:-//92.5 the River - ECPv5.16.3.1//NONSGML v1.0//EN
CALSCALE:GREGORIAN
METHOD:PUBLISH
X-WR-CALNAME:92.5 the River
X-ORIGINAL-URL:https://theriverboston.com
X-WR-CALDESC:Events for 92.5 the River
BEGIN:VTIMEZONE
TZID:America/New_York
BEGIN:DAYLIGHT
TZOFFSETFROM:-0500
TZOFFSETTO:-0400
TZNAME:EDT
DTSTART:20250309T070000
END:DAYLIGHT
BEGIN:STANDARD
TZOFFSETFROM:-0400
TZOFFSETTO:-0500
TZNAME:EST
DTSTART:20251102T060000
END:STANDARD
END:VTIMEZONE
BEGIN:VEVENT
DTSTART;TZID=America/New_York:20251210T190000
DTEND;TZID=America/New_York:20251210T230000
DTSTAMP:20260421T162117
CREATED:20250922T194240Z
LAST-MODIFIED:20250922T194240Z
UID:228925-1765393200-1765407600@theriverboston.com
SUMMARY:The Heavy Heavy @ Brighton Music Hall
DESCRIPTION:The Heavy Heavy | Wednesday\, December 10th \nBrighton Music Hall\, Boston MA | Time: 7pm \nThe Heavy Heavy will bring their soulful\, era-bending rock & roll to Brighton Music Hall on December 10th. Fresh off the release of their long-awaited debut album One Of A Kind\, the UK-based band invites audiences into their dreamworld with a sound that blends British grit\, sun-soaked harmonies\, and psychedelic energy. Known for their breakout hits “Miles and Miles” and “Go Down River” and praised as one of today’s most essential emerging acts\, The Heavy Heavy promise a show that feels both timeless and electrifying. Fans can expect everything from the lush psych-pop of their fan-favorite “Happiness” to the anthemic power of the album’s title track\, making this concert an unforgettable night for longtime admirers and new listeners alike. \nGet tickets here!
URL:https://theriverboston.com/events/the-heavy-heavy-brighton-music-hall/
LOCATION:Brighton Music Hall\, 158 Brighton Ave\, Allston\, MA\, 02134\, United States
END:VEVENT
END:VCALENDAR